BEGIN:VCALENDAR
VERSION:2.0
PRODID:-//Katherine High School - ECPv6.15.18//NONSGML v1.0//EN
CALSCALE:GREGORIAN
METHOD:PUBLISH
X-WR-CALNAME:Katherine High School
X-ORIGINAL-URL:https://www.katherinehighschool.com.au
X-WR-CALDESC:Events for Katherine High School
REFRESH-INTERVAL;VALUE=DURATION:PT1H
X-Robots-Tag:noindex
X-PUBLISHED-TTL:PT1H
BEGIN:VTIMEZONE
TZID:UTC
BEGIN:STANDARD
TZOFFSETFROM:+0000
TZOFFSETTO:+0000
TZNAME:UTC
DTSTART:20170101T000000
END:STANDARD
END:VTIMEZONE
BEGIN:VEVENT
DTSTART;TZID=UTC:20180406T000000
DTEND;TZID=UTC:20180406T000000
DTSTAMP:20260425T160538
CREATED:20180417T165449Z
LAST-MODIFIED:20180417T165449Z
UID:1085-1522972800-1522972800@www.katherinehighschool.com.au
SUMMARY:Stage 2 ILPE Gala Day - BIGA
DESCRIPTION:
URL:https://www.katherinehighschool.com.au/event/stage-2-ilpe-gala-day-biga-4/
END:VEVENT
BEGIN:VEVENT
DTSTART;VALUE=DATE:20180402
DTEND;VALUE=DATE:20180403
DTSTAMP:20260425T160538
CREATED:20180417T165448Z
LAST-MODIFIED:20180417T165448Z
UID:1083-1522627200-1522713599@www.katherinehighschool.com.au
SUMMARY:Easter Monday
DESCRIPTION:
URL:https://www.katherinehighschool.com.au/event/easter-monday/
END:VEVENT
BEGIN:VEVENT
DTSTART;VALUE=DATE:20180402
DTEND;VALUE=DATE:20180407
DTSTAMP:20260425T160538
CREATED:20180417T165448Z
LAST-MODIFIED:20180417T165448Z
UID:1084-1522627200-1523059199@www.katherinehighschool.com.au
SUMMARY:Term 1 Week 10
DESCRIPTION:
URL:https://www.katherinehighschool.com.au/event/term-1-week-10/
END:VEVENT
BEGIN:VEVENT
DTSTART;VALUE=DATE:20180330
DTEND;VALUE=DATE:20180331
DTSTAMP:20260425T160538
CREATED:20180417T165448Z
LAST-MODIFIED:20180417T165448Z
UID:1082-1522368000-1522454399@www.katherinehighschool.com.au
SUMMARY:Good Friday
DESCRIPTION:
URL:https://www.katherinehighschool.com.au/event/good-friday/
END:VEVENT
BEGIN:VEVENT
DTSTART;TZID=UTC:20180327T000000
DTEND;TZID=UTC:20180327T000000
DTSTAMP:20260425T160538
CREATED:20180417T165448Z
LAST-MODIFIED:20180417T165448Z
UID:1081-1522108800-1522108800@www.katherinehighschool.com.au
SUMMARY:DEFENCE FORCE PRESENTATION senior years students
DESCRIPTION:
URL:https://www.katherinehighschool.com.au/event/defence-force-presentation-senior-years-students/
END:VEVENT
BEGIN:VEVENT
DTSTART;VALUE=DATE:20180326
DTEND;VALUE=DATE:20180331
DTSTAMP:20260425T160538
CREATED:20180417T165448Z
LAST-MODIFIED:20180417T165448Z
UID:1080-1522022400-1522454399@www.katherinehighschool.com.au
SUMMARY:Term 1 Week 9
DESCRIPTION:
URL:https://www.katherinehighschool.com.au/event/term-1-week-9/
END:VEVENT
BEGIN:VEVENT
DTSTART;VALUE=DATE:20180326
DTEND;VALUE=DATE:20180327
DTSTAMP:20260425T160538
CREATED:20180417T165447Z
LAST-MODIFIED:20180417T165447Z
UID:1079-1522022400-1522108799@www.katherinehighschool.com.au
SUMMARY:Tentative - Stage 2 Teacher Engagement Day
DESCRIPTION:
URL:https://www.katherinehighschool.com.au/event/tentative-stage-2-teacher-engagement-day/
END:VEVENT
BEGIN:VEVENT
DTSTART;TZID=UTC:20180323T000000
DTEND;TZID=UTC:20180323T000000
DTSTAMP:20260425T160538
CREATED:20180417T165447Z
LAST-MODIFIED:20180417T165447Z
UID:1078-1521763200-1521763200@www.katherinehighschool.com.au
SUMMARY:Stage 2 ILPE Gala Day - BIGA
DESCRIPTION:
URL:https://www.katherinehighschool.com.au/event/stage-2-ilpe-gala-day-biga-3/
END:VEVENT
BEGIN:VEVENT
DTSTART;VALUE=DATE:20180321
DTEND;VALUE=DATE:20180322
DTSTAMP:20260425T160538
CREATED:20180417T165447Z
LAST-MODIFIED:20180417T165447Z
UID:1077-1521590400-1521676799@www.katherinehighschool.com.au
SUMMARY:Harmony Day
DESCRIPTION:
URL:https://www.katherinehighschool.com.au/event/harmony-day/
END:VEVENT
BEGIN:VEVENT
DTSTART;VALUE=DATE:20180319
DTEND;VALUE=DATE:20180324
DTSTAMP:20260425T160538
CREATED:20180417T165447Z
LAST-MODIFIED:20180417T165447Z
UID:1076-1521417600-1521849599@www.katherinehighschool.com.au
SUMMARY:Term 1 Week 8
DESCRIPTION:
URL:https://www.katherinehighschool.com.au/event/term-1-week-8/
END:VEVENT
BEGIN:VEVENT
DTSTART;TZID=UTC:20180316T000000
DTEND;TZID=UTC:20180316T000000
DTSTAMP:20260425T160538
CREATED:20180417T165447Z
LAST-MODIFIED:20180417T165447Z
UID:1075-1521158400-1521158400@www.katherinehighschool.com.au
SUMMARY:Stage 2 ILPE Gala Day - BIGA
DESCRIPTION:
URL:https://www.katherinehighschool.com.au/event/stage-2-ilpe-gala-day-biga-2/
END:VEVENT
BEGIN:VEVENT
DTSTART;TZID=UTC:20180316T000000
DTEND;TZID=UTC:20180316T000000
DTSTAMP:20260425T160538
CREATED:20180417T165446Z
LAST-MODIFIED:20180417T165446Z
UID:1074-1521158400-1521158400@www.katherinehighschool.com.au
SUMMARY:2018 School Photo Day
DESCRIPTION:
URL:https://www.katherinehighschool.com.au/event/2018-school-photo-day/
END:VEVENT
BEGIN:VEVENT
DTSTART;VALUE=DATE:20180312
DTEND;VALUE=DATE:20180317
DTSTAMP:20260425T160538
CREATED:20180417T165446Z
LAST-MODIFIED:20180417T165446Z
UID:1073-1520812800-1521244799@www.katherinehighschool.com.au
SUMMARY:Term 1 Week 7
DESCRIPTION:
URL:https://www.katherinehighschool.com.au/event/term-1-week-7/
END:VEVENT
BEGIN:VEVENT
DTSTART;TZID=UTC:20180309T000000
DTEND;TZID=UTC:20180310T000000
DTSTAMP:20260425T160538
CREATED:20180417T165446Z
LAST-MODIFIED:20180417T165446Z
UID:1071-1520553600-1520640000@www.katherinehighschool.com.au
SUMMARY:U15 AFLW game
DESCRIPTION:
URL:https://www.katherinehighschool.com.au/event/u15-aflw-game/
END:VEVENT
BEGIN:VEVENT
DTSTART;TZID=UTC:20180309T000000
DTEND;TZID=UTC:20180309T000000
DTSTAMP:20260425T160538
CREATED:20180417T165446Z
LAST-MODIFIED:20180417T165446Z
UID:1072-1520553600-1520553600@www.katherinehighschool.com.au
SUMMARY:Stage 2 ILPE Gala Day - BIGA
DESCRIPTION:
URL:https://www.katherinehighschool.com.au/event/stage-2-ilpe-gala-day-biga/
END:VEVENT
BEGIN:VEVENT
DTSTART;VALUE=DATE:20180306
DTEND;VALUE=DATE:20180307
DTSTAMP:20260425T160538
CREATED:20180417T165446Z
LAST-MODIFIED:20180417T165446Z
UID:1070-1520294400-1520380799@www.katherinehighschool.com.au
SUMMARY:U15 Girls 9 aside football
DESCRIPTION:
URL:https://www.katherinehighschool.com.au/event/u15-girls-9-aside-football/
END:VEVENT
BEGIN:VEVENT
DTSTART;VALUE=DATE:20180305
DTEND;VALUE=DATE:20180310
DTSTAMP:20260425T160538
CREATED:20180417T165445Z
LAST-MODIFIED:20180417T165445Z
UID:1069-1520208000-1520639999@www.katherinehighschool.com.au
SUMMARY:Term 1 Week 6
DESCRIPTION:
URL:https://www.katherinehighschool.com.au/event/term-1-week-6/
END:VEVENT
BEGIN:VEVENT
DTSTART;TZID=UTC:20180228T000000
DTEND;TZID=UTC:20180228T000000
DTSTAMP:20260425T160538
CREATED:20180417T165445Z
LAST-MODIFIED:20180417T165445Z
UID:1068-1519776000-1519776000@www.katherinehighschool.com.au
SUMMARY:Parent Teacher Meet and Greet
DESCRIPTION:
URL:https://www.katherinehighschool.com.au/event/parent-teacher-meet-and-greet/
END:VEVENT
BEGIN:VEVENT
DTSTART;VALUE=DATE:20180226
DTEND;VALUE=DATE:20180303
DTSTAMP:20260425T160538
CREATED:20180417T165445Z
LAST-MODIFIED:20180417T165445Z
UID:1067-1519603200-1520035199@www.katherinehighschool.com.au
SUMMARY:Term 1 Week 5
DESCRIPTION:
URL:https://www.katherinehighschool.com.au/event/term-1-week-5/
END:VEVENT
BEGIN:VEVENT
DTSTART;TZID=UTC:20180222T000000
DTEND;TZID=UTC:20180412T000000
DTSTAMP:20260425T160538
CREATED:20180417T165445Z
LAST-MODIFIED:20180417T165445Z
UID:1065-1519257600-1523491200@www.katherinehighschool.com.au
SUMMARY:VSS Cert II in Business
DESCRIPTION:
URL:https://www.katherinehighschool.com.au/event/vss-cert-ii-in-business/
END:VEVENT
BEGIN:VEVENT
DTSTART;TZID=UTC:20180222T000000
DTEND;TZID=UTC:20180222T000000
DTSTAMP:20260425T160538
CREATED:20180417T165445Z
LAST-MODIFIED:20180417T165445Z
UID:1066-1519257600-1519257600@www.katherinehighschool.com.au
SUMMARY:Yr 10 Pancake Breakfast
DESCRIPTION:
URL:https://www.katherinehighschool.com.au/event/yr-10-pancake-breakfast/
END:VEVENT
BEGIN:VEVENT
DTSTART;TZID=UTC:20180219T000000
DTEND;TZID=UTC:20180531T000000
DTSTAMP:20260425T160538
CREATED:20180417T165445Z
LAST-MODIFIED:20180606T063117Z
UID:1064-1518998400-1527724800@www.katherinehighschool.com.au
SUMMARY:Moto Scouts
DESCRIPTION:
URL:https://www.katherinehighschool.com.au/event/moto-scouts/
END:VEVENT
BEGIN:VEVENT
DTSTART;VALUE=DATE:20180219
DTEND;VALUE=DATE:20180224
DTSTAMP:20260425T160538
CREATED:20180417T165445Z
LAST-MODIFIED:20180417T165445Z
UID:1063-1518998400-1519430399@www.katherinehighschool.com.au
SUMMARY:Term 1 Week 4
DESCRIPTION:
URL:https://www.katherinehighschool.com.au/event/term-1-week-4/
END:VEVENT
BEGIN:VEVENT
DTSTART;TZID=UTC:20180215T000000
DTEND;TZID=UTC:20180215T000000
DTSTAMP:20260425T160538
CREATED:20180417T165445Z
LAST-MODIFIED:20180417T165445Z
UID:1061-1518652800-1518652800@www.katherinehighschool.com.au
SUMMARY:VET Information Session
DESCRIPTION:
URL:https://www.katherinehighschool.com.au/event/vet-information-session/
END:VEVENT
BEGIN:VEVENT
DTSTART;TZID=UTC:20180215T000000
DTEND;TZID=UTC:20180215T000000
DTSTAMP:20260425T160538
CREATED:20180417T165445Z
LAST-MODIFIED:20180417T165445Z
UID:1062-1518652800-1518652800@www.katherinehighschool.com.au
SUMMARY:NTCET & VET Parent Information Night
DESCRIPTION:
URL:https://www.katherinehighschool.com.au/event/ntcet-vet-parent-information-night/
END:VEVENT
BEGIN:VEVENT
DTSTART;VALUE=DATE:20180212
DTEND;VALUE=DATE:20180217
DTSTAMP:20260425T160538
CREATED:20180417T165445Z
LAST-MODIFIED:20180417T165445Z
UID:1060-1518393600-1518825599@www.katherinehighschool.com.au
SUMMARY:Term 1 Week 3
DESCRIPTION:
URL:https://www.katherinehighschool.com.au/event/term-1-week-3/
END:VEVENT
BEGIN:VEVENT
DTSTART;TZID=UTC:20180211T000000
DTEND;TZID=UTC:20180211T000000
DTSTAMP:20260425T160538
CREATED:20180417T165444Z
LAST-MODIFIED:20180417T165444Z
UID:1059-1518307200-1518307200@www.katherinehighschool.com.au
SUMMARY:VET Information Presentation
DESCRIPTION:
URL:https://www.katherinehighschool.com.au/event/vet-information-presentation/
END:VEVENT
BEGIN:VEVENT
DTSTART;VALUE=DATE:20180205
DTEND;VALUE=DATE:20180210
DTSTAMP:20260425T160538
CREATED:20180417T165444Z
LAST-MODIFIED:20180417T165444Z
UID:1058-1517788800-1518220799@www.katherinehighschool.com.au
SUMMARY:Term 1 Week 2
DESCRIPTION:
URL:https://www.katherinehighschool.com.au/event/term-1-week-2/
END:VEVENT
BEGIN:VEVENT
DTSTART;TZID=UTC:20180129T000000
DTEND;TZID=UTC:20180129T000000
DTSTAMP:20260425T160538
CREATED:20180417T165444Z
LAST-MODIFIED:20180417T165444Z
UID:1057-1517184000-1517184000@www.katherinehighschool.com.au
SUMMARY:Professional Development day
DESCRIPTION:
URL:https://www.katherinehighschool.com.au/event/professional-development-day/
END:VEVENT
BEGIN:VEVENT
DTSTART;VALUE=DATE:20180129
DTEND;VALUE=DATE:20180203
DTSTAMP:20260425T160538
CREATED:20180417T165444Z
LAST-MODIFIED:20180417T165444Z
UID:1056-1517184000-1517615999@www.katherinehighschool.com.au
SUMMARY:Term 1 Week 1
DESCRIPTION:
URL:https://www.katherinehighschool.com.au/event/term-1-week-1/
END:VEVENT
END:VCALENDAR