BEGIN:VCALENDAR
VERSION:2.0
PRODID:-//Katherine High School - ECPv6.15.18//NONSGML v1.0//EN
CALSCALE:GREGORIAN
METHOD:PUBLISH
X-WR-CALNAME:Katherine High School
X-ORIGINAL-URL:https://www.katherinehighschool.com.au
X-WR-CALDESC:Events for Katherine High School
REFRESH-INTERVAL;VALUE=DURATION:PT1H
X-Robots-Tag:noindex
X-PUBLISHED-TTL:PT1H
BEGIN:VTIMEZONE
TZID:UTC
BEGIN:STANDARD
TZOFFSETFROM:+0000
TZOFFSETTO:+0000
TZNAME:UTC
DTSTART:20170101T000000
END:STANDARD
END:VTIMEZONE
BEGIN:VTIMEZONE
TZID:Australia/Darwin
BEGIN:STANDARD
TZOFFSETFROM:+0930
TZOFFSETTO:+0930
TZNAME:ACST
DTSTART:20170101T000000
END:STANDARD
END:VTIMEZONE
BEGIN:VEVENT
DTSTART;TZID=UTC:20180529T093000
DTEND;TZID=UTC:20180529T120000
DTSTAMP:20260425T161127
CREATED:20180522T062859Z
LAST-MODIFIED:20180522T062859Z
UID:1325-1527586200-1527595200@www.katherinehighschool.com.au
SUMMARY:Stars - Move it Mob Dance Workshop
DESCRIPTION:Year 8
URL:https://www.katherinehighschool.com.au/event/stars-move-it-mob-dance-workshop-5/
END:VEVENT
BEGIN:VEVENT
DTSTART;TZID=UTC:20180528T120000
DTEND;TZID=UTC:20180528T143000
DTSTAMP:20260425T161127
CREATED:20180522T062652Z
LAST-MODIFIED:20180522T062652Z
UID:1319-1527508800-1527517800@www.katherinehighschool.com.au
SUMMARY:Stars - Move it Mob Dance Workshop
DESCRIPTION:Pathways students
URL:https://www.katherinehighschool.com.au/event/stars-move-it-mob-dance-workshop-2/
END:VEVENT
BEGIN:VEVENT
DTSTART;TZID=UTC:20180528T000000
DTEND;TZID=UTC:20180601T000000
DTSTAMP:20260425T161127
CREATED:20180417T165450Z
LAST-MODIFIED:20180417T165450Z
UID:1099-1527465600-1527811200@www.katherinehighschool.com.au
SUMMARY:Term 2 Week 6
DESCRIPTION:
URL:https://www.katherinehighschool.com.au/event/term-2-week-6/
END:VEVENT
BEGIN:VEVENT
DTSTART;VALUE=DATE:20180525
DTEND;VALUE=DATE:20180526
DTSTAMP:20260425T161127
CREATED:20180518T053345Z
LAST-MODIFIED:20180518T053345Z
UID:1281-1527206400-1527292799@www.katherinehighschool.com.au
SUMMARY:Learning Commission
DESCRIPTION:Casuarina Street Primary School
URL:https://www.katherinehighschool.com.au/event/learning-commission/
END:VEVENT
BEGIN:VEVENT
DTSTART;TZID=UTC:20180524T093000
DTEND;TZID=UTC:20180524T143000
DTSTAMP:20260425T161127
CREATED:20180522T062510Z
LAST-MODIFIED:20180522T063236Z
UID:1316-1527154200-1527172200@www.katherinehighschool.com.au
SUMMARY:Stars - Move it Mob Dance Workshop
DESCRIPTION:Year 7  12pm – 2.30Pm \nYear 9 9.30am – 12pm
URL:https://www.katherinehighschool.com.au/event/tars-move-it-mob-dance-workshop/
END:VEVENT
BEGIN:VEVENT
DTSTART;TZID=UTC:20180524T090000
DTEND;TZID=UTC:20180524T120000
DTSTAMP:20260425T161127
CREATED:20180518T053213Z
LAST-MODIFIED:20180518T053213Z
UID:1279-1527152400-1527163200@www.katherinehighschool.com.au
SUMMARY:SEN visit to RAAF Base Tindal
DESCRIPTION:
URL:https://www.katherinehighschool.com.au/event/sen-visit-to-raaf-base-tindal/
END:VEVENT
BEGIN:VEVENT
DTSTART;TZID=UTC:20180524T080000
DTEND;TZID=UTC:20180528T170000
DTSTAMP:20260425T161127
CREATED:20180523T004133Z
LAST-MODIFIED:20180523T004133Z
UID:1329-1527148800-1527526800@www.katherinehighschool.com.au
SUMMARY:Clontarf Academy- Territory Cup
DESCRIPTION:Senior boys Year 10\, 11 & 12 \nAlice Springs
URL:https://www.katherinehighschool.com.au/event/clontarf-academy-territory-cup/
END:VEVENT
BEGIN:VEVENT
DTSTART;TZID=UTC:20180524T080000
DTEND;TZID=UTC:20180524T100000
DTSTAMP:20260425T161127
CREATED:20180517T234919Z
LAST-MODIFIED:20180523T063523Z
UID:1239-1527148800-1527156000@www.katherinehighschool.com.au
SUMMARY:AEU-NT Teacher Meeting
DESCRIPTION:AEU-NT Teacher Meeting 8.30-9.30am \nExtended Home Group activities until 10am. \nFull student supervision available until normal classes resume after 10am. \n 
URL:https://www.katherinehighschool.com.au/event/proposed-industrial-action/
END:VEVENT
BEGIN:VEVENT
DTSTART;VALUE=DATE:20180524
DTEND;VALUE=DATE:20180525
DTSTAMP:20260425T161127
CREATED:20180518T011757Z
LAST-MODIFIED:20180518T011757Z
UID:1258-1527120000-1527206399@www.katherinehighschool.com.au
SUMMARY:School Sport - U15 Touch game
DESCRIPTION:Katherine High V St Josephs
URL:https://www.katherinehighschool.com.au/event/school-sport-u15-touch-game/
END:VEVENT
BEGIN:VEVENT
DTSTART;VALUE=DATE:20180523
DTEND;VALUE=DATE:20180524
DTSTAMP:20260425T161127
CREATED:20180518T011607Z
LAST-MODIFIED:20180518T011607Z
UID:1256-1527033600-1527119999@www.katherinehighschool.com.au
SUMMARY:Parramatta Cup Game
DESCRIPTION:
URL:https://www.katherinehighschool.com.au/event/parramatta-cup-game/
END:VEVENT
BEGIN:VEVENT
DTSTART;TZID=UTC:20180522T130000
DTEND;TZID=UTC:20180522T133000
DTSTAMP:20260425T161127
CREATED:20180518T000454Z
LAST-MODIFIED:20180522T012617Z
UID:1252-1526994000-1526995800@www.katherinehighschool.com.au
SUMMARY:Year 12 Bake Sale
DESCRIPTION:Raising money for Graduation
URL:https://www.katherinehighschool.com.au/event/year-12-bake-sale/
END:VEVENT
BEGIN:VEVENT
DTSTART;TZID=UTC:20180522T110000
DTEND;TZID=UTC:20180522T123000
DTSTAMP:20260425T161127
CREATED:20180521T003509Z
LAST-MODIFIED:20180521T003509Z
UID:1301-1526986800-1526992200@www.katherinehighschool.com.au
SUMMARY:Mental Health Presentation Year 9 and 10
DESCRIPTION:
URL:https://www.katherinehighschool.com.au/event/mental-health-presentation-year-9-and-10/
END:VEVENT
BEGIN:VEVENT
DTSTART;TZID=UTC:20180522T095000
DTEND;TZID=UTC:20180522T120000
DTSTAMP:20260425T161127
CREATED:20180522T012539Z
LAST-MODIFIED:20180522T012539Z
UID:1312-1526982600-1526990400@www.katherinehighschool.com.au
SUMMARY:CLONTARF Activity at the Town Basketball courts
DESCRIPTION:
URL:https://www.katherinehighschool.com.au/event/clontarf-activity-at-the-town-basketball-courts/
END:VEVENT
BEGIN:VEVENT
DTSTART;TZID=UTC:20180522T093000
DTEND;TZID=UTC:20180522T120000
DTSTAMP:20260425T161127
CREATED:20180522T062340Z
LAST-MODIFIED:20180522T062340Z
UID:1314-1526981400-1526990400@www.katherinehighschool.com.au
SUMMARY:Stars - Move it Mob Dance Workshop
DESCRIPTION:Year 8
URL:https://www.katherinehighschool.com.au/event/stars-move-it-mob-dance-workshop/
END:VEVENT
BEGIN:VEVENT
DTSTART;TZID=UTC:20180522T093000
DTEND;TZID=UTC:20180522T120000
DTSTAMP:20260425T161127
CREATED:20180522T010814Z
LAST-MODIFIED:20180522T010814Z
UID:1309-1526981400-1526990400@www.katherinehighschool.com.au
SUMMARY:STARS Move it Mob Style Dance workshop
DESCRIPTION:
URL:https://www.katherinehighschool.com.au/event/stars-move-it-mob-style-dance-workshop/
LOCATION:YMCA
END:VEVENT
BEGIN:VEVENT
DTSTART;TZID=UTC:20180521T133500
DTEND;TZID=UTC:20180521T144000
DTSTAMP:20260425T161127
CREATED:20180521T003346Z
LAST-MODIFIED:20180521T003346Z
UID:1299-1526909700-1526913600@www.katherinehighschool.com.au
SUMMARY:Mental Health Presentation  Year 8
DESCRIPTION:
URL:https://www.katherinehighschool.com.au/event/mental-health-presentation-year-8/
END:VEVENT
BEGIN:VEVENT
DTSTART;TZID=UTC:20180521T120000
DTEND;TZID=UTC:20180521T143000
DTSTAMP:20260425T161127
CREATED:20180521T045052Z
LAST-MODIFIED:20180521T045052Z
UID:1305-1526904000-1526913000@www.katherinehighschool.com.au
SUMMARY:Clontarf - YMCA
DESCRIPTION:
URL:https://www.katherinehighschool.com.au/event/clontarf-ymca/
END:VEVENT
BEGIN:VEVENT
DTSTART;TZID=UTC:20180521T120000
DTEND;TZID=UTC:20180521T143000
DTSTAMP:20260425T161127
CREATED:20180521T045001Z
LAST-MODIFIED:20180521T045001Z
UID:1303-1526904000-1526913000@www.katherinehighschool.com.au
SUMMARY:Stars - Dance workshop
DESCRIPTION:YMCA
URL:https://www.katherinehighschool.com.au/event/stars-dance-workshop/
END:VEVENT
BEGIN:VEVENT
DTSTART;TZID=UTC:20180521T110000
DTEND;TZID=UTC:20180521T123000
DTSTAMP:20260425T161127
CREATED:20180521T003232Z
LAST-MODIFIED:20180521T003232Z
UID:1297-1526900400-1526905800@www.katherinehighschool.com.au
SUMMARY:Mental Health Presentation Year 11 and 12
DESCRIPTION:
URL:https://www.katherinehighschool.com.au/event/mental-health-presentation-year-11-and-12/
END:VEVENT
BEGIN:VEVENT
DTSTART;TZID=UTC:20180521T000000
DTEND;TZID=UTC:20180525T000000
DTSTAMP:20260425T161127
CREATED:20180417T165450Z
LAST-MODIFIED:20180417T165450Z
UID:1098-1526860800-1527206400@www.katherinehighschool.com.au
SUMMARY:Term 2 Week 5
DESCRIPTION:
URL:https://www.katherinehighschool.com.au/event/term-2-week-5/
END:VEVENT
BEGIN:VEVENT
DTSTART;TZID=UTC:20180518T120000
DTEND;TZID=UTC:20180518T143000
DTSTAMP:20260425T161127
CREATED:20180518T000204Z
LAST-MODIFIED:20180518T000204Z
UID:1250-1526644800-1526653800@www.katherinehighschool.com.au
SUMMARY:PE - Coaching Assessment
DESCRIPTION:Mr Williams Stage 2 Integrated Learning class
URL:https://www.katherinehighschool.com.au/event/pe-coaching-assessment/
END:VEVENT
BEGIN:VEVENT
DTSTART;TZID=UTC:20180518T080000
DTEND;TZID=UTC:20180518T103000
DTSTAMP:20260425T161127
CREATED:20180517T235913Z
LAST-MODIFIED:20180517T235913Z
UID:1248-1526630400-1526639400@www.katherinehighschool.com.au
SUMMARY:Clontarf - Law Week
DESCRIPTION:
URL:https://www.katherinehighschool.com.au/event/clontarf-law-week/
END:VEVENT
BEGIN:VEVENT
DTSTART;TZID=UTC:20180518T080000
DTEND;TZID=UTC:20180518T103000
DTSTAMP:20260425T161127
CREATED:20180517T235818Z
LAST-MODIFIED:20180517T235818Z
UID:1246-1526630400-1526639400@www.katherinehighschool.com.au
SUMMARY:Stars - Law Week
DESCRIPTION:
URL:https://www.katherinehighschool.com.au/event/stars-law-week/
END:VEVENT
BEGIN:VEVENT
DTSTART;VALUE=DATE:20180518
DTEND;VALUE=DATE:20180519
DTSTAMP:20260425T161127
CREATED:20180518T011906Z
LAST-MODIFIED:20180518T011906Z
UID:1260-1526601600-1526687999@www.katherinehighschool.com.au
SUMMARY:Stage 2 - Integrated Learning Golf Day
DESCRIPTION:
URL:https://www.katherinehighschool.com.au/event/stage-2-integrated-learning-golf-day/
END:VEVENT
BEGIN:VEVENT
DTSTART;VALUE=DATE:20180518
DTEND;VALUE=DATE:20180519
DTSTAMP:20260425T161127
CREATED:20180517T235609Z
LAST-MODIFIED:20180517T235701Z
UID:1244-1526601600-1526687999@www.katherinehighschool.com.au
SUMMARY:Community Studies Intensive Day
DESCRIPTION:Stage 2 Community Studies Intensive day
URL:https://www.katherinehighschool.com.au/event/community-studies-intensive-day/
END:VEVENT
BEGIN:VEVENT
DTSTART;TZID=UTC:20180516T170000
DTEND;TZID=UTC:20180516T180000
DTSTAMP:20260425T161127
CREATED:20180518T011504Z
LAST-MODIFIED:20180518T011504Z
UID:1254-1526490000-1526493600@www.katherinehighschool.com.au
SUMMARY:Year 10 NTCET Parent session
DESCRIPTION:
URL:https://www.katherinehighschool.com.au/event/year-10-ntcet-parent-session/
END:VEVENT
BEGIN:VEVENT
DTSTART;TZID=Australia/Darwin:20180516T170000
DTEND;TZID=Australia/Darwin:20180516T180000
DTSTAMP:20260425T161127
CREATED:20180509T053059Z
LAST-MODIFIED:20180509T054817Z
UID:1217-1526490000-1526493600@www.katherinehighschool.com.au
SUMMARY:Year 10 NTCET Parent Info Night
DESCRIPTION:YEAR 10 PARENTS AND FAMILIES \nNTCET Information session \nWed May 16th\, 5pm\, library \n 
URL:https://www.katherinehighschool.com.au/event/year-10-ntcet-parent-info-night/
END:VEVENT
BEGIN:VEVENT
DTSTART;VALUE=DATE:20180515
DTEND;VALUE=DATE:20180518
DTSTAMP:20260425T161127
CREATED:20180417T165450Z
LAST-MODIFIED:20180417T165450Z
UID:1097-1526342400-1526601599@www.katherinehighschool.com.au
SUMMARY:NAPLAN
DESCRIPTION:
URL:https://www.katherinehighschool.com.au/event/naplan/
END:VEVENT
BEGIN:VEVENT
DTSTART;TZID=UTC:20180514T000000
DTEND;TZID=UTC:20180518T000000
DTSTAMP:20260425T161127
CREATED:20180417T165450Z
LAST-MODIFIED:20180417T165450Z
UID:1096-1526256000-1526601600@www.katherinehighschool.com.au
SUMMARY:Term 2 Week 4
DESCRIPTION:
URL:https://www.katherinehighschool.com.au/event/term-2-week-4/
END:VEVENT
BEGIN:VEVENT
DTSTART;TZID=UTC:20180509T170000
DTEND;TZID=UTC:20180509T190000
DTSTAMP:20260425T161127
CREATED:20180518T020010Z
LAST-MODIFIED:20180518T020010Z
UID:1270-1525885200-1525892400@www.katherinehighschool.com.au
SUMMARY:Parent Teacher Interviews
DESCRIPTION:
URL:https://www.katherinehighschool.com.au/event/parent-teacher-interviews/
END:VEVENT
END:VCALENDAR