BEGIN:VCALENDAR
VERSION:2.0
PRODID:-//Katherine High School - ECPv6.15.18//NONSGML v1.0//EN
CALSCALE:GREGORIAN
METHOD:PUBLISH
X-WR-CALNAME:Katherine High School
X-ORIGINAL-URL:https://www.katherinehighschool.com.au
X-WR-CALDESC:Events for Katherine High School
REFRESH-INTERVAL;VALUE=DURATION:PT1H
X-Robots-Tag:noindex
X-PUBLISHED-TTL:PT1H
BEGIN:VTIMEZONE
TZID:UTC
BEGIN:STANDARD
TZOFFSETFROM:+0000
TZOFFSETTO:+0000
TZNAME:UTC
DTSTART:20170101T000000
END:STANDARD
END:VTIMEZONE
BEGIN:VTIMEZONE
TZID:Australia/Darwin
BEGIN:STANDARD
TZOFFSETFROM:+0930
TZOFFSETTO:+0930
TZNAME:ACST
DTSTART:20170101T000000
END:STANDARD
END:VTIMEZONE
BEGIN:VEVENT
DTSTART;TZID=UTC:20180726T080000
DTEND;TZID=UTC:20180726T143000
DTSTAMP:20260422T153513
CREATED:20180727T002647Z
LAST-MODIFIED:20180727T002647Z
UID:1435-1532592000-1532615400@www.katherinehighschool.com.au
SUMMARY:Cert I in Auto
DESCRIPTION:
URL:https://www.katherinehighschool.com.au/event/cert-i-in-auto/
END:VEVENT
BEGIN:VEVENT
DTSTART;VALUE=DATE:20180726
DTEND;VALUE=DATE:20180727
DTSTAMP:20260422T153513
CREATED:20180730T061112Z
LAST-MODIFIED:20180730T061112Z
UID:1467-1532563200-1532649599@www.katherinehighschool.com.au
SUMMARY:Cert II in Business
DESCRIPTION:
URL:https://www.katherinehighschool.com.au/event/cert-ii-in-business-2/
END:VEVENT
BEGIN:VEVENT
DTSTART;VALUE=DATE:20180726
DTEND;VALUE=DATE:20180727
DTSTAMP:20260422T153513
CREATED:20180727T044422Z
LAST-MODIFIED:20180727T044422Z
UID:1457-1532563200-1532649599@www.katherinehighschool.com.au
SUMMARY:Cert II in Business
DESCRIPTION:
URL:https://www.katherinehighschool.com.au/event/cert-ii-in-business/
END:VEVENT
BEGIN:VEVENT
DTSTART;TZID=UTC:20180725T080000
DTEND;TZID=UTC:20180801T170000
DTSTAMP:20260422T153513
CREATED:20180619T020940Z
LAST-MODIFIED:20180619T020940Z
UID:1412-1532505600-1533142800@www.katherinehighschool.com.au
SUMMARY:Clontarf - Outback Marathon
DESCRIPTION:Uluru for the annual Outback Marathon in conjunction with Hawthorn football club and  the Epic good foundation
URL:https://www.katherinehighschool.com.au/event/clontarf-outback-marathon/
END:VEVENT
BEGIN:VEVENT
DTSTART;TZID=UTC:20180723T000000
DTEND;TZID=UTC:20180727T000000
DTSTAMP:20260422T153513
CREATED:20180417T165452Z
LAST-MODIFIED:20180417T165452Z
UID:1108-1532304000-1532649600@www.katherinehighschool.com.au
SUMMARY:Term 3 Week 1
DESCRIPTION:
URL:https://www.katherinehighschool.com.au/event/term-3-week-1/
END:VEVENT
BEGIN:VEVENT
DTSTART;VALUE=DATE:20180723
DTEND;VALUE=DATE:20180724
DTSTAMP:20260422T153513
CREATED:20180503T075423Z
LAST-MODIFIED:20180503T075423Z
UID:1223-1532304000-1532390399@www.katherinehighschool.com.au
SUMMARY:Student free Day
DESCRIPTION:
URL:https://www.katherinehighschool.com.au/event/student-free-day/
END:VEVENT
BEGIN:VEVENT
DTSTART;VALUE=DATE:20180720
DTEND;VALUE=DATE:20180721
DTSTAMP:20260422T153513
CREATED:20180417T165452Z
LAST-MODIFIED:20180417T165452Z
UID:1106-1532044800-1532131199@www.katherinehighschool.com.au
SUMMARY:Katherine Showday
DESCRIPTION:
URL:https://www.katherinehighschool.com.au/event/katherine-showday/
END:VEVENT
BEGIN:VEVENT
DTSTART;TZID=UTC:20180702T000000
DTEND;TZID=UTC:20180722T000000
DTSTAMP:20260422T153513
CREATED:20180417T165452Z
LAST-MODIFIED:20180417T165452Z
UID:1105-1530489600-1532217600@www.katherinehighschool.com.au
SUMMARY:Mid Semester Holidays
DESCRIPTION:
URL:https://www.katherinehighschool.com.au/event/mid-semester-holidays/
END:VEVENT
BEGIN:VEVENT
DTSTART;VALUE=DATE:20180625
DTEND;VALUE=DATE:20180626
DTSTAMP:20260422T153513
CREATED:20180615T004551Z
LAST-MODIFIED:20180615T004551Z
UID:1408-1529884800-1529971199@www.katherinehighschool.com.au
SUMMARY:Discovery Day
DESCRIPTION:Katherine High School Gym\nYear 6 Primary School Students and Year 7 Katherine High School Students
URL:https://www.katherinehighschool.com.au/event/discovery-day/
END:VEVENT
BEGIN:VEVENT
DTSTART;VALUE=DATE:20180625
DTEND;VALUE=DATE:20180630
DTSTAMP:20260422T153513
CREATED:20180417T165451Z
LAST-MODIFIED:20180417T165451Z
UID:1104-1529884800-1530316799@www.katherinehighschool.com.au
SUMMARY:Term 2 Week 10
DESCRIPTION:
URL:https://www.katherinehighschool.com.au/event/term-2-week-10/
END:VEVENT
BEGIN:VEVENT
DTSTART;VALUE=DATE:20180622
DTEND;VALUE=DATE:20180623
DTSTAMP:20260422T153513
CREATED:20180503T075328Z
LAST-MODIFIED:20180517T233942Z
UID:1221-1529625600-1529711999@www.katherinehighschool.com.au
SUMMARY:Athletics Carnival
DESCRIPTION:Notes will go out with more information
URL:https://www.katherinehighschool.com.au/event/athletics-carnival/
END:VEVENT
BEGIN:VEVENT
DTSTART;TZID=UTC:20180621T190000
DTEND;TZID=UTC:20180621T213000
DTSTAMP:20260422T153513
CREATED:20180518T021624Z
LAST-MODIFIED:20180518T021624Z
UID:1273-1529607600-1529616600@www.katherinehighschool.com.au
SUMMARY:Katherine Beat 2018
DESCRIPTION:Katherine Beat presents Ignite \nLindsay Street complex
URL:https://www.katherinehighschool.com.au/event/katherine-beat-2018/
END:VEVENT
BEGIN:VEVENT
DTSTART;TZID=UTC:20180620T080000
DTEND;TZID=UTC:20180621T170000
DTSTAMP:20260422T153513
CREATED:20180606T064002Z
LAST-MODIFIED:20180606T064035Z
UID:1379-1529481600-1529600400@www.katherinehighschool.com.au
SUMMARY:Stars - Cricket Carnival
DESCRIPTION:Darwin 20-21 June
URL:https://www.katherinehighschool.com.au/event/stars-cricket-carnival/
END:VEVENT
BEGIN:VEVENT
DTSTART;VALUE=DATE:20180619
DTEND;VALUE=DATE:20180629
DTSTAMP:20260422T153513
CREATED:20180518T053555Z
LAST-MODIFIED:20180518T053555Z
UID:1283-1529366400-1530230399@www.katherinehighschool.com.au
SUMMARY:Year 9 Camp
DESCRIPTION:Canberra \, Melbourne and Ballarat
URL:https://www.katherinehighschool.com.au/event/year-9-camp/
END:VEVENT
BEGIN:VEVENT
DTSTART;TZID=UTC:20180618T000000
DTEND;TZID=UTC:20180622T000000
DTSTAMP:20260422T153513
CREATED:20180417T165451Z
LAST-MODIFIED:20180417T165451Z
UID:1103-1529280000-1529625600@www.katherinehighschool.com.au
SUMMARY:Term 2 Week 9
DESCRIPTION:
URL:https://www.katherinehighschool.com.au/event/term-2-week-9/
END:VEVENT
BEGIN:VEVENT
DTSTART;VALUE=DATE:20180618
DTEND;VALUE=DATE:20180630
DTSTAMP:20260422T153513
CREATED:20180520T235942Z
LAST-MODIFIED:20180520T235942Z
UID:1295-1529280000-1530316799@www.katherinehighschool.com.au
SUMMARY:Cert 11 Engineering Pathways
DESCRIPTION:KHS N Block – Technical Studies
URL:https://www.katherinehighschool.com.au/event/cert-11-engineering-pathways/
END:VEVENT
BEGIN:VEVENT
DTSTART;VALUE=DATE:20180618
DTEND;VALUE=DATE:20180630
DTSTAMP:20260422T153513
CREATED:20180520T235845Z
LAST-MODIFIED:20180520T235845Z
UID:1293-1529280000-1530316799@www.katherinehighschool.com.au
SUMMARY:Cert 1 Rural Operations
DESCRIPTION:CDU Rural Campus
URL:https://www.katherinehighschool.com.au/event/cert-1-rural-operations/
END:VEVENT
BEGIN:VEVENT
DTSTART;VALUE=DATE:20180618
DTEND;VALUE=DATE:20180630
DTSTAMP:20260422T153513
CREATED:20180520T235805Z
LAST-MODIFIED:20180520T235805Z
UID:1291-1529280000-1530316799@www.katherinehighschool.com.au
SUMMARY:Hairdressing Salon Skills
DESCRIPTION:KHS Sports Science
URL:https://www.katherinehighschool.com.au/event/hairdressing-salon-skills/
END:VEVENT
BEGIN:VEVENT
DTSTART;VALUE=DATE:20180618
DTEND;VALUE=DATE:20180630
DTSTAMP:20260422T153513
CREATED:20180520T235715Z
LAST-MODIFIED:20180520T235715Z
UID:1289-1529280000-1530316799@www.katherinehighschool.com.au
SUMMARY:Cert 1 Food Processing
DESCRIPTION:St Josephs
URL:https://www.katherinehighschool.com.au/event/cert-1-food-processing/
END:VEVENT
BEGIN:VEVENT
DTSTART;TZID=UTC:20180613T173000
DTEND;TZID=UTC:20180613T183000
DTSTAMP:20260422T153513
CREATED:20180531T060523Z
LAST-MODIFIED:20180531T060523Z
UID:1361-1528911000-1528914600@www.katherinehighschool.com.au
SUMMARY:School Council Meeting
DESCRIPTION:Katherine High School Council meeting\nDate: Wednesday 13th June\nTime: 5:30 -6:30pm\nWhere: Katherine School staff room\nAll parents are welcome and encouraged to attend.  For more information\, please contact Kylie Ousey at klousey@gmail.com or phone 8972 5344.
URL:https://www.katherinehighschool.com.au/event/school-council-meeting/
ORGANIZER;CN="Kylie Ousey":MAILTO:klousey@gmail.com
END:VEVENT
BEGIN:VEVENT
DTSTART;TZID=UTC:20180613T160000
DTEND;TZID=UTC:20180613T170000
DTSTAMP:20260422T153513
CREATED:20180518T022037Z
LAST-MODIFIED:20180518T022037Z
UID:1277-1528905600-1528909200@www.katherinehighschool.com.au
SUMMARY:School Sport -U12 Softball Trial
DESCRIPTION:Casuarina Street Primary
URL:https://www.katherinehighschool.com.au/event/school-sport-u12-softball-trial/
END:VEVENT
BEGIN:VEVENT
DTSTART;TZID=UTC:20180613T160000
DTEND;TZID=UTC:20180613T170000
DTSTAMP:20260422T153513
CREATED:20180518T021929Z
LAST-MODIFIED:20180518T021929Z
UID:1275-1528905600-1528909200@www.katherinehighschool.com.au
SUMMARY:School Sport Trial - U12 Touch Football
DESCRIPTION:Wednesday & Thursday Casuarina Street Primary
URL:https://www.katherinehighschool.com.au/event/school-sport-trial-u12-touch-football/
END:VEVENT
BEGIN:VEVENT
DTSTART;VALUE=DATE:20180612
DTEND;VALUE=DATE:20180616
DTSTAMP:20260422T153513
CREATED:20180611T225843Z
LAST-MODIFIED:20180611T225926Z
UID:1382-1528761600-1529107199@www.katherinehighschool.com.au
SUMMARY:Stage 2 - Outdoor Education (Canoe Practical)
DESCRIPTION:
URL:https://www.katherinehighschool.com.au/event/stage-2-outdoor-education-canoe-practical/
END:VEVENT
BEGIN:VEVENT
DTSTART;TZID=UTC:20180611T000000
DTEND;TZID=UTC:20180615T000000
DTSTAMP:20260422T153513
CREATED:20180417T165451Z
LAST-MODIFIED:20180417T165451Z
UID:1102-1528675200-1529020800@www.katherinehighschool.com.au
SUMMARY:Term 2 Week 8
DESCRIPTION:
URL:https://www.katherinehighschool.com.au/event/term-2-week-8/
END:VEVENT
BEGIN:VEVENT
DTSTART;VALUE=DATE:20180611
DTEND;VALUE=DATE:20180612
DTSTAMP:20260422T153513
CREATED:20180417T165451Z
LAST-MODIFIED:20180417T165451Z
UID:1101-1528675200-1528761599@www.katherinehighschool.com.au
SUMMARY:Queens Birthday
DESCRIPTION:
URL:https://www.katherinehighschool.com.au/event/queens-birthday/
END:VEVENT
BEGIN:VEVENT
DTSTART;TZID=UTC:20180608T080000
DTEND;TZID=UTC:20180608T170000
DTSTAMP:20260422T153513
CREATED:20180606T063707Z
LAST-MODIFIED:20180606T063707Z
UID:1375-1528444800-1528477200@www.katherinehighschool.com.au
SUMMARY:Barunga AFL Carnival
DESCRIPTION:KHS Girls team\nKHS & St Josephs combined Boys team
URL:https://www.katherinehighschool.com.au/event/barunga-afl-carnival/
END:VEVENT
BEGIN:VEVENT
DTSTART;TZID=UTC:20180608T080000
DTEND;TZID=UTC:20180608T170000
DTSTAMP:20260422T153513
CREATED:20180606T063527Z
LAST-MODIFIED:20180606T063527Z
UID:1373-1528444800-1528477200@www.katherinehighschool.com.au
SUMMARY:Clontarf - Barunga AFL Carnival
DESCRIPTION:
URL:https://www.katherinehighschool.com.au/event/clontarf-barunga-afl-carnival/
END:VEVENT
BEGIN:VEVENT
DTSTART;VALUE=DATE:20180608
DTEND;VALUE=DATE:20180609
DTSTAMP:20260422T153513
CREATED:20180525T043618Z
LAST-MODIFIED:20180525T043618Z
UID:1343-1528416000-1528502399@www.katherinehighschool.com.au
SUMMARY:Stars - Barunga Festival AFL Competition
DESCRIPTION:
URL:https://www.katherinehighschool.com.au/event/stars-barunga-festival-afl-competition/
END:VEVENT
BEGIN:VEVENT
DTSTART;TZID=UTC:20180607T093000
DTEND;TZID=UTC:20180607T123000
DTSTAMP:20260422T153513
CREATED:20180606T063843Z
LAST-MODIFIED:20180606T063843Z
UID:1377-1528363800-1528374600@www.katherinehighschool.com.au
SUMMARY:Stage 1 - Health Assessment
DESCRIPTION:Rocky Ridge Retirement Village\n9.30am – 12.30pm
URL:https://www.katherinehighschool.com.au/event/stage-1-health-assessment/
END:VEVENT
BEGIN:VEVENT
DTSTART;TZID=UTC:20180607T080000
DTEND;TZID=UTC:20180607T143000
DTSTAMP:20260422T153513
CREATED:20180529T052000Z
LAST-MODIFIED:20180529T052000Z
UID:1356-1528358400-1528381800@www.katherinehighschool.com.au
SUMMARY:Air Force Indigenous Youth Program
DESCRIPTION:
URL:https://www.katherinehighschool.com.au/event/air-force-indigenous-youth-program-3/
LOCATION:RAAF Base Tindal
END:VEVENT
END:VCALENDAR