BEGIN:VCALENDAR
VERSION:2.0
PRODID:-//Katherine High School - ECPv6.15.18//NONSGML v1.0//EN
CALSCALE:GREGORIAN
METHOD:PUBLISH
X-WR-CALNAME:Katherine High School
X-ORIGINAL-URL:https://www.katherinehighschool.com.au
X-WR-CALDESC:Events for Katherine High School
REFRESH-INTERVAL;VALUE=DURATION:PT1H
X-Robots-Tag:noindex
X-PUBLISHED-TTL:PT1H
BEGIN:VTIMEZONE
TZID:UTC
BEGIN:STANDARD
TZOFFSETFROM:+0000
TZOFFSETTO:+0000
TZNAME:UTC
DTSTART:20170101T000000
END:STANDARD
END:VTIMEZONE
BEGIN:VEVENT
DTSTART;TZID=UTC:20180815T120000
DTEND;TZID=UTC:20180816T130000
DTSTAMP:20260422T120330
CREATED:20180815T015923Z
LAST-MODIFIED:20180815T015923Z
UID:1519-1534334400-1534424400@www.katherinehighschool.com.au
SUMMARY:Clontarf Edith Falls Camp
DESCRIPTION:
URL:https://www.katherinehighschool.com.au/event/clontarf-edith-falls-camp/
END:VEVENT
BEGIN:VEVENT
DTSTART;VALUE=DATE:20180815
DTEND;VALUE=DATE:20180817
DTSTAMP:20260422T120330
CREATED:20180730T061000Z
LAST-MODIFIED:20180730T061000Z
UID:1465-1534291200-1534463999@www.katherinehighschool.com.au
SUMMARY:Middle Years Re-engagement Camp to Jabiru
DESCRIPTION:
URL:https://www.katherinehighschool.com.au/event/middle-years-re-engagement-camp-to-jabiru/
END:VEVENT
BEGIN:VEVENT
DTSTART;TZID=UTC:20180814T080000
DTEND;TZID=UTC:20180815T150000
DTSTAMP:20260422T120330
CREATED:20180808T005430Z
LAST-MODIFIED:20180808T005430Z
UID:1513-1534233600-1534345200@www.katherinehighschool.com.au
SUMMARY:Year 7 Camp - Nitmiluk
DESCRIPTION:
URL:https://www.katherinehighschool.com.au/event/year-7-camp-nitmiluk/
END:VEVENT
BEGIN:VEVENT
DTSTART;VALUE=DATE:20180813
DTEND;VALUE=DATE:20180814
DTSTAMP:20260422T120330
CREATED:20180808T004726Z
LAST-MODIFIED:20180808T004726Z
UID:1509-1534118400-1534204799@www.katherinehighschool.com.au
SUMMARY:Cross Country
DESCRIPTION:
URL:https://www.katherinehighschool.com.au/event/cross-country/
END:VEVENT
BEGIN:VEVENT
DTSTART;VALUE=DATE:20180813
DTEND;VALUE=DATE:20180818
DTSTAMP:20260422T120330
CREATED:20180417T165452Z
LAST-MODIFIED:20180417T165452Z
UID:1112-1534118400-1534550399@www.katherinehighschool.com.au
SUMMARY:Term 3 Week 4
DESCRIPTION:
URL:https://www.katherinehighschool.com.au/event/term-3-week-4/
END:VEVENT
BEGIN:VEVENT
DTSTART;TZID=UTC:20180810T081500
DTEND;TZID=UTC:20180810T103000
DTSTAMP:20260422T120330
CREATED:20180801T233707Z
LAST-MODIFIED:20180801T233707Z
UID:1497-1533888900-1533897000@www.katherinehighschool.com.au
SUMMARY:R U OK Conversation Convoy
DESCRIPTION:
URL:https://www.katherinehighschool.com.au/event/r-u-ok-conversation-convoy/
LOCATION:Gym
END:VEVENT
BEGIN:VEVENT
DTSTART;TZID=UTC:20180809T080000
DTEND;TZID=UTC:20180809T143000
DTSTAMP:20260422T120330
CREATED:20180727T002837Z
LAST-MODIFIED:20180727T002837Z
UID:1439-1533801600-1533825000@www.katherinehighschool.com.au
SUMMARY:Cert I in Auto
DESCRIPTION:
URL:https://www.katherinehighschool.com.au/event/cert-i-in-auto-3/
END:VEVENT
BEGIN:VEVENT
DTSTART;VALUE=DATE:20180809
DTEND;VALUE=DATE:20180810
DTSTAMP:20260422T120330
CREATED:20180823T012435Z
LAST-MODIFIED:20180823T012435Z
UID:1699-1533772800-1533859199@www.katherinehighschool.com.au
SUMMARY:NAIDOC Celebration
DESCRIPTION:
URL:https://www.katherinehighschool.com.au/event/naidoc-celebration/
END:VEVENT
BEGIN:VEVENT
DTSTART;VALUE=DATE:20180809
DTEND;VALUE=DATE:20180810
DTSTAMP:20260422T120330
CREATED:20180730T061204Z
LAST-MODIFIED:20180730T061204Z
UID:1471-1533772800-1533859199@www.katherinehighschool.com.au
SUMMARY:Cert II in Business
DESCRIPTION:
URL:https://www.katherinehighschool.com.au/event/cert-ii-in-business-4/
END:VEVENT
BEGIN:VEVENT
DTSTART;VALUE=DATE:20180808
DTEND;VALUE=DATE:20180810
DTSTAMP:20260422T120330
CREATED:20180823T011939Z
LAST-MODIFIED:20180823T011939Z
UID:1697-1533686400-1533859199@www.katherinehighschool.com.au
SUMMARY:Senior First Aid Certificate
DESCRIPTION:
URL:https://www.katherinehighschool.com.au/event/senior-first-aid-certificate/
END:VEVENT
BEGIN:VEVENT
DTSTART;VALUE=DATE:20180807
DTEND;VALUE=DATE:20180808
DTSTAMP:20260422T120330
CREATED:20180730T060810Z
LAST-MODIFIED:20180730T060810Z
UID:1463-1533600000-1533686399@www.katherinehighschool.com.au
SUMMARY:Pupil Free Day
DESCRIPTION:
URL:https://www.katherinehighschool.com.au/event/pupil-free-day-2/
END:VEVENT
BEGIN:VEVENT
DTSTART;TZID=UTC:20180806T000000
DTEND;TZID=UTC:20180810T000000
DTSTAMP:20260422T120330
CREATED:20180417T165452Z
LAST-MODIFIED:20180417T165452Z
UID:1111-1533513600-1533859200@www.katherinehighschool.com.au
SUMMARY:Term 3 Week 3
DESCRIPTION:
URL:https://www.katherinehighschool.com.au/event/term-3-week-3-2/
END:VEVENT
BEGIN:VEVENT
DTSTART;VALUE=DATE:20180806
DTEND;VALUE=DATE:20180807
DTSTAMP:20260422T120330
CREATED:20180417T165452Z
LAST-MODIFIED:20180417T165452Z
UID:1110-1533513600-1533599999@www.katherinehighschool.com.au
SUMMARY:Picnic Day
DESCRIPTION:
URL:https://www.katherinehighschool.com.au/event/picnic-day/
END:VEVENT
BEGIN:VEVENT
DTSTART;VALUE=DATE:20180805
DTEND;VALUE=DATE:20180806
DTSTAMP:20260422T120330
CREATED:20180820T064000Z
LAST-MODIFIED:20180820T064000Z
UID:1570-1533427200-1533513599@www.katherinehighschool.com.au
SUMMARY:Picnic Day
DESCRIPTION:
URL:https://www.katherinehighschool.com.au/event/picnic-day-2/
END:VEVENT
BEGIN:VEVENT
DTSTART;VALUE=DATE:20180803
DTEND;VALUE=DATE:20180804
DTSTAMP:20260422T120330
CREATED:20180731T061035Z
LAST-MODIFIED:20180731T061035Z
UID:1493-1533254400-1533340799@www.katherinehighschool.com.au
SUMMARY:Katherine Regional Interschool Athletics Carnival
DESCRIPTION:
URL:https://www.katherinehighschool.com.au/event/katherine-regional-interschool-athletics-carnival/
END:VEVENT
BEGIN:VEVENT
DTSTART;TZID=UTC:20180802T080000
DTEND;TZID=UTC:20180802T143000
DTSTAMP:20260422T120330
CREATED:20180727T002754Z
LAST-MODIFIED:20180727T002754Z
UID:1437-1533196800-1533220200@www.katherinehighschool.com.au
SUMMARY:Cert I in Auto
DESCRIPTION:
URL:https://www.katherinehighschool.com.au/event/cert-i-in-auto-2/
END:VEVENT
BEGIN:VEVENT
DTSTART;VALUE=DATE:20180802
DTEND;VALUE=DATE:20180803
DTSTAMP:20260422T120330
CREATED:20180730T061143Z
LAST-MODIFIED:20180730T061143Z
UID:1469-1533168000-1533254399@www.katherinehighschool.com.au
SUMMARY:Cert II in Business
DESCRIPTION:
URL:https://www.katherinehighschool.com.au/event/cert-ii-in-business-3/
END:VEVENT
BEGIN:VEVENT
DTSTART;VALUE=DATE:20180801
DTEND;VALUE=DATE:20180803
DTSTAMP:20260422T120330
CREATED:20180731T233350Z
LAST-MODIFIED:20180731T233350Z
UID:1495-1533081600-1533254399@www.katherinehighschool.com.au
SUMMARY:Stage 2 Outdoor Ed Litchfield Bush walk
DESCRIPTION:
URL:https://www.katherinehighschool.com.au/event/stage-2-outdoor-ed-litchfield-bush-walk/
END:VEVENT
BEGIN:VEVENT
DTSTART;TZID=UTC:20180730T000000
DTEND;TZID=UTC:20180803T000000
DTSTAMP:20260422T120330
CREATED:20180417T165452Z
LAST-MODIFIED:20180417T165452Z
UID:1109-1532908800-1533254400@www.katherinehighschool.com.au
SUMMARY:Term 3 week 2
DESCRIPTION:
URL:https://www.katherinehighschool.com.au/event/term-3-week-2/
END:VEVENT
BEGIN:VEVENT
DTSTART;VALUE=DATE:20180727
DTEND;VALUE=DATE:20180728
DTSTAMP:20260422T120330
CREATED:20180830T000616Z
LAST-MODIFIED:20180830T000616Z
UID:1778-1532649600-1532735999@www.katherinehighschool.com.au
SUMMARY:Katherine Regional Transition Day - Katherine town oval
DESCRIPTION:
URL:https://www.katherinehighschool.com.au/event/katherine-regional-transition-day-katherine-town-oval/
END:VEVENT
BEGIN:VEVENT
DTSTART;TZID=UTC:20180726T080000
DTEND;TZID=UTC:20180726T143000
DTSTAMP:20260422T120330
CREATED:20180727T002647Z
LAST-MODIFIED:20180727T002647Z
UID:1435-1532592000-1532615400@www.katherinehighschool.com.au
SUMMARY:Cert I in Auto
DESCRIPTION:
URL:https://www.katherinehighschool.com.au/event/cert-i-in-auto/
END:VEVENT
BEGIN:VEVENT
DTSTART;VALUE=DATE:20180726
DTEND;VALUE=DATE:20180727
DTSTAMP:20260422T120330
CREATED:20180730T061112Z
LAST-MODIFIED:20180730T061112Z
UID:1467-1532563200-1532649599@www.katherinehighschool.com.au
SUMMARY:Cert II in Business
DESCRIPTION:
URL:https://www.katherinehighschool.com.au/event/cert-ii-in-business-2/
END:VEVENT
BEGIN:VEVENT
DTSTART;VALUE=DATE:20180726
DTEND;VALUE=DATE:20180727
DTSTAMP:20260422T120330
CREATED:20180727T044422Z
LAST-MODIFIED:20180727T044422Z
UID:1457-1532563200-1532649599@www.katherinehighschool.com.au
SUMMARY:Cert II in Business
DESCRIPTION:
URL:https://www.katherinehighschool.com.au/event/cert-ii-in-business/
END:VEVENT
BEGIN:VEVENT
DTSTART;TZID=UTC:20180725T080000
DTEND;TZID=UTC:20180801T170000
DTSTAMP:20260422T120330
CREATED:20180619T020940Z
LAST-MODIFIED:20180619T020940Z
UID:1412-1532505600-1533142800@www.katherinehighschool.com.au
SUMMARY:Clontarf - Outback Marathon
DESCRIPTION:Uluru for the annual Outback Marathon in conjunction with Hawthorn football club and  the Epic good foundation
URL:https://www.katherinehighschool.com.au/event/clontarf-outback-marathon/
END:VEVENT
BEGIN:VEVENT
DTSTART;TZID=UTC:20180723T000000
DTEND;TZID=UTC:20180727T000000
DTSTAMP:20260422T120330
CREATED:20180417T165452Z
LAST-MODIFIED:20180417T165452Z
UID:1108-1532304000-1532649600@www.katherinehighschool.com.au
SUMMARY:Term 3 Week 1
DESCRIPTION:
URL:https://www.katherinehighschool.com.au/event/term-3-week-1/
END:VEVENT
BEGIN:VEVENT
DTSTART;VALUE=DATE:20180723
DTEND;VALUE=DATE:20180724
DTSTAMP:20260422T120330
CREATED:20180503T075423Z
LAST-MODIFIED:20180503T075423Z
UID:1223-1532304000-1532390399@www.katherinehighschool.com.au
SUMMARY:Student free Day
DESCRIPTION:
URL:https://www.katherinehighschool.com.au/event/student-free-day/
END:VEVENT
BEGIN:VEVENT
DTSTART;VALUE=DATE:20180720
DTEND;VALUE=DATE:20180721
DTSTAMP:20260422T120330
CREATED:20180417T165452Z
LAST-MODIFIED:20180417T165452Z
UID:1106-1532044800-1532131199@www.katherinehighschool.com.au
SUMMARY:Katherine Showday
DESCRIPTION:
URL:https://www.katherinehighschool.com.au/event/katherine-showday/
END:VEVENT
BEGIN:VEVENT
DTSTART;TZID=UTC:20180702T000000
DTEND;TZID=UTC:20180722T000000
DTSTAMP:20260422T120330
CREATED:20180417T165452Z
LAST-MODIFIED:20180417T165452Z
UID:1105-1530489600-1532217600@www.katherinehighschool.com.au
SUMMARY:Mid Semester Holidays
DESCRIPTION:
URL:https://www.katherinehighschool.com.au/event/mid-semester-holidays/
END:VEVENT
BEGIN:VEVENT
DTSTART;VALUE=DATE:20180625
DTEND;VALUE=DATE:20180626
DTSTAMP:20260422T120330
CREATED:20180615T004551Z
LAST-MODIFIED:20180615T004551Z
UID:1408-1529884800-1529971199@www.katherinehighschool.com.au
SUMMARY:Discovery Day
DESCRIPTION:Katherine High School Gym\nYear 6 Primary School Students and Year 7 Katherine High School Students
URL:https://www.katherinehighschool.com.au/event/discovery-day/
END:VEVENT
BEGIN:VEVENT
DTSTART;VALUE=DATE:20180625
DTEND;VALUE=DATE:20180630
DTSTAMP:20260422T120330
CREATED:20180417T165451Z
LAST-MODIFIED:20180417T165451Z
UID:1104-1529884800-1530316799@www.katherinehighschool.com.au
SUMMARY:Term 2 Week 10
DESCRIPTION:
URL:https://www.katherinehighschool.com.au/event/term-2-week-10/
END:VEVENT
END:VCALENDAR