BEGIN:VCALENDAR
VERSION:2.0
PRODID:-//Katherine High School - ECPv6.15.18//NONSGML v1.0//EN
CALSCALE:GREGORIAN
METHOD:PUBLISH
X-WR-CALNAME:Katherine High School
X-ORIGINAL-URL:https://www.katherinehighschool.com.au
X-WR-CALDESC:Events for Katherine High School
REFRESH-INTERVAL;VALUE=DURATION:PT1H
X-Robots-Tag:noindex
X-PUBLISHED-TTL:PT1H
BEGIN:VTIMEZONE
TZID:UTC
BEGIN:STANDARD
TZOFFSETFROM:+0000
TZOFFSETTO:+0000
TZNAME:UTC
DTSTART:20170101T000000
END:STANDARD
END:VTIMEZONE
BEGIN:VEVENT
DTSTART;VALUE=DATE:20180903
DTEND;VALUE=DATE:20180908
DTSTAMP:20260422T113039
CREATED:20180417T165453Z
LAST-MODIFIED:20180417T165453Z
UID:1116-1535932800-1536364799@www.katherinehighschool.com.au
SUMMARY:Term 3 Week 7
DESCRIPTION:
URL:https://www.katherinehighschool.com.au/event/term-3-week-7/
END:VEVENT
BEGIN:VEVENT
DTSTART;TZID=UTC:20180831T120000
DTEND;TZID=UTC:20180831T140000
DTSTAMP:20260422T113039
CREATED:20180823T224917Z
LAST-MODIFIED:20180823T224917Z
UID:1728-1535716800-1535724000@www.katherinehighschool.com.au
SUMMARY:Visit by Minister Uibo\, NT Education Minister
DESCRIPTION:
URL:https://www.katherinehighschool.com.au/event/visit-by-minister-uibo-nt-education-minister/
END:VEVENT
BEGIN:VEVENT
DTSTART;VALUE=DATE:20180831
DTEND;VALUE=DATE:20180901
DTSTAMP:20260422T113039
CREATED:20180830T000716Z
LAST-MODIFIED:20180830T000716Z
UID:1780-1535673600-1535759999@www.katherinehighschool.com.au
SUMMARY:Year 6 SEN visits
DESCRIPTION:
URL:https://www.katherinehighschool.com.au/event/year-6-sen-visits/
END:VEVENT
BEGIN:VEVENT
DTSTART;VALUE=DATE:20180831
DTEND;VALUE=DATE:20180901
DTSTAMP:20260422T113039
CREATED:20180823T012648Z
LAST-MODIFIED:20180823T012648Z
UID:1705-1535673600-1535759999@www.katherinehighschool.com.au
SUMMARY:Pathways - Cupcakes for the RSPCA
DESCRIPTION:Lunch Time
URL:https://www.katherinehighschool.com.au/event/pathways-cupcakes-for-the-rspca/
END:VEVENT
BEGIN:VEVENT
DTSTART;TZID=UTC:20180830T080000
DTEND;TZID=UTC:20180830T143000
DTSTAMP:20260422T113039
CREATED:20180727T022253Z
LAST-MODIFIED:20180727T022253Z
UID:1444-1535616000-1535639400@www.katherinehighschool.com.au
SUMMARY:Cert I in Auto
DESCRIPTION:
URL:https://www.katherinehighschool.com.au/event/cert-i-in-auto-5/
END:VEVENT
BEGIN:VEVENT
DTSTART;VALUE=DATE:20180830
DTEND;VALUE=DATE:20180831
DTSTAMP:20260422T113039
CREATED:20180823T012512Z
LAST-MODIFIED:20180823T012512Z
UID:1701-1535587200-1535673599@www.katherinehighschool.com.au
SUMMARY:NT Athletics Championships
DESCRIPTION:Darwin
URL:https://www.katherinehighschool.com.au/event/nt-athletics-championships/
END:VEVENT
BEGIN:VEVENT
DTSTART;VALUE=DATE:20180830
DTEND;VALUE=DATE:20180831
DTSTAMP:20260422T113039
CREATED:20180730T061344Z
LAST-MODIFIED:20180730T061344Z
UID:1477-1535587200-1535673599@www.katherinehighschool.com.au
SUMMARY:Cert II in Business
DESCRIPTION:
URL:https://www.katherinehighschool.com.au/event/cert-ii-in-business-7/
END:VEVENT
BEGIN:VEVENT
DTSTART;TZID=UTC:20180829T170000
DTEND;TZID=UTC:20180829T190000
DTSTAMP:20260422T113039
CREATED:20180817T052953Z
LAST-MODIFIED:20180817T052953Z
UID:1533-1535562000-1535569200@www.katherinehighschool.com.au
SUMMARY:NTCET Information Night
DESCRIPTION:Parents\, Guardians and Year 10 &11 Students\, \nYou are invited to attend the NTCET information session at the KHS Parent Teacher Night. \nFind out about: \n the prerequisites for graduating with your NTCET certificate  \n check that you are meeting the requirements to finish year 12 in 2019/2020.  \n Catch up with your Year Coordinator to discuss pathway op-tions\, course counselling\, and support offered at Katherine High School  \n Catch up with our VET Coordinator to discuss vet options for 2019  \n Speak to teachers about subjects offered in 2019  \n Raise any concerns you may have about completing your  \ncertificate \nWhen: Wednesday 29th August  \nWhere: School Library  \nRefreshments and snacks available as part of the parent teacher night. \nNTCET Information Night \n 
URL:https://www.katherinehighschool.com.au/event/ntcet-information-night/
END:VEVENT
BEGIN:VEVENT
DTSTART;TZID=UTC:20180829T170000
DTEND;TZID=UTC:20180829T190000
DTSTAMP:20260422T113039
CREATED:20180808T004813Z
LAST-MODIFIED:20180808T004813Z
UID:1511-1535562000-1535569200@www.katherinehighschool.com.au
SUMMARY:Parent Teacher Night
DESCRIPTION:
URL:https://www.katherinehighschool.com.au/event/parent-teacher-night/
END:VEVENT
BEGIN:VEVENT
DTSTART;VALUE=DATE:20180829
DTEND;VALUE=DATE:20180830
DTSTAMP:20260422T113039
CREATED:20180829T002305Z
LAST-MODIFIED:20180829T002305Z
UID:1766-1535500800-1535587199@www.katherinehighschool.com.au
SUMMARY:Stars Netball Carnival
DESCRIPTION:
URL:https://www.katherinehighschool.com.au/event/stars-netball-carnival/
END:VEVENT
BEGIN:VEVENT
DTSTART;VALUE=DATE:20180829
DTEND;VALUE=DATE:20180901
DTSTAMP:20260422T113039
CREATED:20180828T021250Z
LAST-MODIFIED:20180828T021250Z
UID:1758-1535500800-1535759999@www.katherinehighschool.com.au
SUMMARY:Stage 1 Outdoor Ed Bush walk Nitmiluk
DESCRIPTION:
URL:https://www.katherinehighschool.com.au/event/stage-1-outdoor-ed-bush-walk-nitmiluk/
END:VEVENT
BEGIN:VEVENT
DTSTART;VALUE=DATE:20180829
DTEND;VALUE=DATE:20180830
DTSTAMP:20260422T113039
CREATED:20180823T013219Z
LAST-MODIFIED:20180823T013219Z
UID:1709-1535500800-1535587199@www.katherinehighschool.com.au
SUMMARY:Pathways - Open Day & Colour Run Explosion Day
DESCRIPTION:Pathways will be running a colour fun run on the oval during lunchtime. Everyone is welcome to join in. \nLocal and community primary schools (Y 5/6) will be coming in. Gold coin donation for all participants. \nSY Pathways will be running a BBQ and sweets to purchase
URL:https://www.katherinehighschool.com.au/event/pathways-open-day-colour-run-explosion-day/
END:VEVENT
BEGIN:VEVENT
DTSTART;TZID=UTC:20180828T173000
DTEND;TZID=UTC:20180828T183000
DTSTAMP:20260422T113039
CREATED:20180817T052720Z
LAST-MODIFIED:20180817T053159Z
UID:1531-1535477400-1535481000@www.katherinehighschool.com.au
SUMMARY:Year 6 to Year 7 Transition Information Night
DESCRIPTION:Year 5 and 6 Parents\, Guardians and Carers\, \nPlease join us at Katherine High School for the\nYear 7 2019\nInformation Evening\nTuesday 28th August 2018 \nKatherine High School Library\n5.30-6.30pm\nInformation will include:\n• Year 7 Curriculum\n• Elective Subjects\n• Enrolment Procedures\n• Transition Program\n• Year 7 Camp and Wellbeing Program\n 
URL:https://www.katherinehighschool.com.au/event/year-6-to-year-7-transition-information-night/
END:VEVENT
BEGIN:VEVENT
DTSTART;VALUE=DATE:20180828
DTEND;VALUE=DATE:20180830
DTSTAMP:20260422T113039
CREATED:20180823T012713Z
LAST-MODIFIED:20180823T012713Z
UID:1707-1535414400-1535587199@www.katherinehighschool.com.au
SUMMARY:PISA Testing
DESCRIPTION:
URL:https://www.katherinehighschool.com.au/event/pisa-testing/
END:VEVENT
BEGIN:VEVENT
DTSTART;VALUE=DATE:20180828
DTEND;VALUE=DATE:20180829
DTSTAMP:20260422T113039
CREATED:20180823T012602Z
LAST-MODIFIED:20180823T012602Z
UID:1703-1535414400-1535500799@www.katherinehighschool.com.au
SUMMARY:Allied health & Teaching Career Visit
DESCRIPTION:
URL:https://www.katherinehighschool.com.au/event/allied-health-teaching-career-visit/
END:VEVENT
BEGIN:VEVENT
DTSTART;VALUE=DATE:20180827
DTEND;VALUE=DATE:20180901
DTSTAMP:20260422T113039
CREATED:20180417T165453Z
LAST-MODIFIED:20180417T165453Z
UID:1115-1535328000-1535759999@www.katherinehighschool.com.au
SUMMARY:Term 3 Week 6
DESCRIPTION:
URL:https://www.katherinehighschool.com.au/event/term-3-week-6/
END:VEVENT
BEGIN:VEVENT
DTSTART;TZID=UTC:20180823T080000
DTEND;TZID=UTC:20180823T143000
DTSTAMP:20260422T113039
CREATED:20180727T022156Z
LAST-MODIFIED:20180727T022156Z
UID:1442-1535011200-1535034600@www.katherinehighschool.com.au
SUMMARY:Cert I in Auto
DESCRIPTION:
URL:https://www.katherinehighschool.com.au/event/cert-i-in-auto-4/
END:VEVENT
BEGIN:VEVENT
DTSTART;VALUE=DATE:20180823
DTEND;VALUE=DATE:20180824
DTSTAMP:20260422T113039
CREATED:20180730T061249Z
LAST-MODIFIED:20180730T061249Z
UID:1475-1534982400-1535068799@www.katherinehighschool.com.au
SUMMARY:Cert II in Business
DESCRIPTION:
URL:https://www.katherinehighschool.com.au/event/cert-ii-in-business-6/
END:VEVENT
BEGIN:VEVENT
DTSTART;TZID=UTC:20180822T000000
DTEND;TZID=UTC:20180822T000000
DTSTAMP:20260422T113039
CREATED:20180417T165453Z
LAST-MODIFIED:20180417T165453Z
UID:1114-1534896000-1534896000@www.katherinehighschool.com.au
SUMMARY:2018 NT Skills\, Employment and Careers Expo
DESCRIPTION:
URL:https://www.katherinehighschool.com.au/event/2018-nt-skills-employment-and-careers-expo/
END:VEVENT
BEGIN:VEVENT
DTSTART;TZID=UTC:20180821T080000
DTEND;TZID=UTC:20180825T170000
DTSTAMP:20260422T113039
CREATED:20180717T225751Z
LAST-MODIFIED:20180717T225751Z
UID:1419-1534838400-1535216400@www.katherinehighschool.com.au
SUMMARY:Year 8 Camp to Kununurra
DESCRIPTION:
URL:https://www.katherinehighschool.com.au/event/year-8-camp-to-kununurra/
END:VEVENT
BEGIN:VEVENT
DTSTART;VALUE=DATE:20180820
DTEND;VALUE=DATE:20180823
DTSTAMP:20260422T113039
CREATED:20180823T011730Z
LAST-MODIFIED:20180823T011730Z
UID:1695-1534723200-1534982399@www.katherinehighschool.com.au
SUMMARY:Outdoor Education Bushwalk
DESCRIPTION:
URL:https://www.katherinehighschool.com.au/event/outdoor-education-bushwalk/
END:VEVENT
BEGIN:VEVENT
DTSTART;VALUE=DATE:20180820
DTEND;VALUE=DATE:20180825
DTSTAMP:20260422T113039
CREATED:20180417T165453Z
LAST-MODIFIED:20180717T230236Z
UID:1113-1534723200-1535155199@www.katherinehighschool.com.au
SUMMARY:Term 3 Week 5
DESCRIPTION:
URL:https://www.katherinehighschool.com.au/event/term-4-week-5/
END:VEVENT
BEGIN:VEVENT
DTSTART;TZID=UTC:20180816T080000
DTEND;TZID=UTC:20180816T143000
DTSTAMP:20260422T113039
CREATED:20180727T031442Z
LAST-MODIFIED:20180727T031442Z
UID:1453-1534406400-1534429800@www.katherinehighschool.com.au
SUMMARY:Cert I in Auto
DESCRIPTION:
URL:https://www.katherinehighschool.com.au/event/cert-i-in-auto-9/
END:VEVENT
BEGIN:VEVENT
DTSTART;VALUE=DATE:20180816
DTEND;VALUE=DATE:20180817
DTSTAMP:20260422T113039
CREATED:20180730T061228Z
LAST-MODIFIED:20180730T061228Z
UID:1473-1534377600-1534463999@www.katherinehighschool.com.au
SUMMARY:Cert II in Business
DESCRIPTION:
URL:https://www.katherinehighschool.com.au/event/cert-ii-in-business-5/
END:VEVENT
BEGIN:VEVENT
DTSTART;TZID=UTC:20180815T120000
DTEND;TZID=UTC:20180816T130000
DTSTAMP:20260422T113039
CREATED:20180815T015923Z
LAST-MODIFIED:20180815T015923Z
UID:1519-1534334400-1534424400@www.katherinehighschool.com.au
SUMMARY:Clontarf Edith Falls Camp
DESCRIPTION:
URL:https://www.katherinehighschool.com.au/event/clontarf-edith-falls-camp/
END:VEVENT
BEGIN:VEVENT
DTSTART;VALUE=DATE:20180815
DTEND;VALUE=DATE:20180817
DTSTAMP:20260422T113039
CREATED:20180730T061000Z
LAST-MODIFIED:20180730T061000Z
UID:1465-1534291200-1534463999@www.katherinehighschool.com.au
SUMMARY:Middle Years Re-engagement Camp to Jabiru
DESCRIPTION:
URL:https://www.katherinehighschool.com.au/event/middle-years-re-engagement-camp-to-jabiru/
END:VEVENT
BEGIN:VEVENT
DTSTART;TZID=UTC:20180814T080000
DTEND;TZID=UTC:20180815T150000
DTSTAMP:20260422T113039
CREATED:20180808T005430Z
LAST-MODIFIED:20180808T005430Z
UID:1513-1534233600-1534345200@www.katherinehighschool.com.au
SUMMARY:Year 7 Camp - Nitmiluk
DESCRIPTION:
URL:https://www.katherinehighschool.com.au/event/year-7-camp-nitmiluk/
END:VEVENT
BEGIN:VEVENT
DTSTART;VALUE=DATE:20180813
DTEND;VALUE=DATE:20180814
DTSTAMP:20260422T113039
CREATED:20180808T004726Z
LAST-MODIFIED:20180808T004726Z
UID:1509-1534118400-1534204799@www.katherinehighschool.com.au
SUMMARY:Cross Country
DESCRIPTION:
URL:https://www.katherinehighschool.com.au/event/cross-country/
END:VEVENT
BEGIN:VEVENT
DTSTART;VALUE=DATE:20180813
DTEND;VALUE=DATE:20180818
DTSTAMP:20260422T113039
CREATED:20180417T165452Z
LAST-MODIFIED:20180417T165452Z
UID:1112-1534118400-1534550399@www.katherinehighschool.com.au
SUMMARY:Term 3 Week 4
DESCRIPTION:
URL:https://www.katherinehighschool.com.au/event/term-3-week-4/
END:VEVENT
BEGIN:VEVENT
DTSTART;TZID=UTC:20180810T081500
DTEND;TZID=UTC:20180810T103000
DTSTAMP:20260422T113039
CREATED:20180801T233707Z
LAST-MODIFIED:20180801T233707Z
UID:1497-1533888900-1533897000@www.katherinehighschool.com.au
SUMMARY:R U OK Conversation Convoy
DESCRIPTION:
URL:https://www.katherinehighschool.com.au/event/r-u-ok-conversation-convoy/
LOCATION:Gym
END:VEVENT
END:VCALENDAR