BEGIN:VCALENDAR
VERSION:2.0
PRODID:-//Katherine High School - ECPv6.15.18//NONSGML v1.0//EN
CALSCALE:GREGORIAN
METHOD:PUBLISH
X-WR-CALNAME:Katherine High School
X-ORIGINAL-URL:https://www.katherinehighschool.com.au
X-WR-CALDESC:Events for Katherine High School
REFRESH-INTERVAL;VALUE=DURATION:PT1H
X-Robots-Tag:noindex
X-PUBLISHED-TTL:PT1H
BEGIN:VTIMEZONE
TZID:UTC
BEGIN:STANDARD
TZOFFSETFROM:+0000
TZOFFSETTO:+0000
TZNAME:UTC
DTSTART:20170101T000000
END:STANDARD
END:VTIMEZONE
BEGIN:VEVENT
DTSTART;VALUE=DATE:20181022
DTEND;VALUE=DATE:20181027
DTSTAMP:20260422T065145
CREATED:20180417T165454Z
LAST-MODIFIED:20180417T165454Z
UID:1122-1540166400-1540598399@www.katherinehighschool.com.au
SUMMARY:Term 4 Week 2
DESCRIPTION:
URL:https://www.katherinehighschool.com.au/event/term-4-week-2/
END:VEVENT
BEGIN:VEVENT
DTSTART;VALUE=DATE:20181016
DTEND;VALUE=DATE:20181019
DTSTAMP:20260422T065145
CREATED:20180615T001519Z
LAST-MODIFIED:20180615T001519Z
UID:1397-1539648000-1539907199@www.katherinehighschool.com.au
SUMMARY:Stage 2 Trial Exams
DESCRIPTION:Stage 2 Trial Exams Katherine Training Centre
URL:https://www.katherinehighschool.com.au/event/stage-2-trial-exams/
END:VEVENT
BEGIN:VEVENT
DTSTART;VALUE=DATE:20181015
DTEND;VALUE=DATE:20181020
DTSTAMP:20260422T065145
CREATED:20180417T165454Z
LAST-MODIFIED:20180417T165454Z
UID:1121-1539561600-1539993599@www.katherinehighschool.com.au
SUMMARY:Term 4 Week 1
DESCRIPTION:
URL:https://www.katherinehighschool.com.au/event/term-4-week-1/
END:VEVENT
BEGIN:VEVENT
DTSTART;VALUE=DATE:20181001
DTEND;VALUE=DATE:20181015
DTSTAMP:20260422T065145
CREATED:20180417T165454Z
LAST-MODIFIED:20180417T165454Z
UID:1120-1538352000-1539561599@www.katherinehighschool.com.au
SUMMARY:Mid Semester Break
DESCRIPTION:
URL:https://www.katherinehighschool.com.au/event/mid-semester-break/
END:VEVENT
BEGIN:VEVENT
DTSTART;VALUE=DATE:20180927
DTEND;VALUE=DATE:20180928
DTSTAMP:20260422T065145
CREATED:20180730T061728Z
LAST-MODIFIED:20180730T061728Z
UID:1487-1538006400-1538092799@www.katherinehighschool.com.au
SUMMARY:Cert I in Auto
DESCRIPTION:
URL:https://www.katherinehighschool.com.au/event/cert-i-in-auto-10/
END:VEVENT
BEGIN:VEVENT
DTSTART;VALUE=DATE:20180927
DTEND;VALUE=DATE:20180928
DTSTAMP:20260422T065145
CREATED:20180730T061526Z
LAST-MODIFIED:20180730T061526Z
UID:1485-1538006400-1538092799@www.katherinehighschool.com.au
SUMMARY:Cert II in Business
DESCRIPTION:
URL:https://www.katherinehighschool.com.au/event/cert-ii-in-business-11/
END:VEVENT
BEGIN:VEVENT
DTSTART;VALUE=DATE:20180924
DTEND;VALUE=DATE:20180925
DTSTAMP:20260422T065145
CREATED:20180827T225530Z
LAST-MODIFIED:20180827T225530Z
UID:1751-1537747200-1537833599@www.katherinehighschool.com.au
SUMMARY:Orientation Day 1
DESCRIPTION:
URL:https://www.katherinehighschool.com.au/event/orientation-day-1/
END:VEVENT
BEGIN:VEVENT
DTSTART;VALUE=DATE:20180924
DTEND;VALUE=DATE:20180929
DTSTAMP:20260422T065145
CREATED:20180417T165453Z
LAST-MODIFIED:20180417T165453Z
UID:1119-1537747200-1538179199@www.katherinehighschool.com.au
SUMMARY:Term 3 Week 10
DESCRIPTION:
URL:https://www.katherinehighschool.com.au/event/term-3-week-10/
END:VEVENT
BEGIN:VEVENT
DTSTART;VALUE=DATE:20180921
DTEND;VALUE=DATE:20180922
DTSTAMP:20260422T065145
CREATED:20180910T005702Z
LAST-MODIFIED:20180910T005702Z
UID:1791-1537488000-1537574399@www.katherinehighschool.com.au
SUMMARY:Job Skills courses - CDU Rural Campus
DESCRIPTION:
URL:https://www.katherinehighschool.com.au/event/job-skills-courses-cdu-rural-campus-2/
END:VEVENT
BEGIN:VEVENT
DTSTART;VALUE=DATE:20180921
DTEND;VALUE=DATE:20180922
DTSTAMP:20260422T065145
CREATED:20180827T225420Z
LAST-MODIFIED:20180827T225925Z
UID:1749-1537488000-1537574399@www.katherinehighschool.com.au
SUMMARY:Regional Transition Day 2
DESCRIPTION:
URL:https://www.katherinehighschool.com.au/event/regional-transition-day/
END:VEVENT
BEGIN:VEVENT
DTSTART;TZID=UTC:20180920T080000
DTEND;TZID=UTC:20180920T143000
DTSTAMP:20260422T065145
CREATED:20180727T022603Z
LAST-MODIFIED:20180727T022603Z
UID:1450-1537430400-1537453800@www.katherinehighschool.com.au
SUMMARY:Cert I in Auto
DESCRIPTION:
URL:https://www.katherinehighschool.com.au/event/cert-i-in-auto-8/
END:VEVENT
BEGIN:VEVENT
DTSTART;VALUE=DATE:20180920
DTEND;VALUE=DATE:20180921
DTSTAMP:20260422T065145
CREATED:20180730T061503Z
LAST-MODIFIED:20180730T061503Z
UID:1483-1537401600-1537487999@www.katherinehighschool.com.au
SUMMARY:Cert II in Business
DESCRIPTION:
URL:https://www.katherinehighschool.com.au/event/cert-ii-in-business-10/
END:VEVENT
BEGIN:VEVENT
DTSTART;VALUE=DATE:20180919
DTEND;VALUE=DATE:20180921
DTSTAMP:20260422T065145
CREATED:20180829T002407Z
LAST-MODIFIED:20180829T002407Z
UID:1768-1537315200-1537487999@www.katherinehighschool.com.au
SUMMARY:Under 14s Territory Cup - Darwin
DESCRIPTION:
URL:https://www.katherinehighschool.com.au/event/under-14s-territory-cup-darwin/
END:VEVENT
BEGIN:VEVENT
DTSTART;VALUE=DATE:20180918
DTEND;VALUE=DATE:20180922
DTSTAMP:20260422T065145
CREATED:20180823T013532Z
LAST-MODIFIED:20180823T013532Z
UID:1714-1537228800-1537574399@www.katherinehighschool.com.au
SUMMARY:Clontarf Senior Camp
DESCRIPTION:
URL:https://www.katherinehighschool.com.au/event/clontarf-senior-camp/
END:VEVENT
BEGIN:VEVENT
DTSTART;TZID=UTC:20180917T000000
DTEND;TZID=UTC:20180921T000000
DTSTAMP:20260422T065145
CREATED:20180417T165453Z
LAST-MODIFIED:20180417T165453Z
UID:1118-1537142400-1537488000@www.katherinehighschool.com.au
SUMMARY:Term 3 Week 9
DESCRIPTION:
URL:https://www.katherinehighschool.com.au/event/term-3-week-9/
END:VEVENT
BEGIN:VEVENT
DTSTART;VALUE=DATE:20180917
DTEND;VALUE=DATE:20180920
DTSTAMP:20260422T065145
CREATED:20180910T005555Z
LAST-MODIFIED:20180910T005555Z
UID:1789-1537142400-1537401599@www.katherinehighschool.com.au
SUMMARY:Job Skills courses - CDU Rural Campus
DESCRIPTION:
URL:https://www.katherinehighschool.com.au/event/job-skills-courses-cdu-rural-campus/
END:VEVENT
BEGIN:VEVENT
DTSTART;VALUE=DATE:20180915
DTEND;VALUE=DATE:20180920
DTSTAMP:20260422T065145
CREATED:20180828T021551Z
LAST-MODIFIED:20180828T021551Z
UID:1760-1536969600-1537401599@www.katherinehighschool.com.au
SUMMARY:Stage 2 Outdoor Ed - Jatbula Trail
DESCRIPTION:
URL:https://www.katherinehighschool.com.au/event/stage-2-outdoor-ed-jatbula-trail/
END:VEVENT
BEGIN:VEVENT
DTSTART;TZID=UTC:20180913T080000
DTEND;TZID=UTC:20180913T143000
DTSTAMP:20260422T065145
CREATED:20180727T022505Z
LAST-MODIFIED:20180727T022505Z
UID:1448-1536825600-1536849000@www.katherinehighschool.com.au
SUMMARY:Cert I in Auto
DESCRIPTION:
URL:https://www.katherinehighschool.com.au/event/cert-i-in-auto-7/
END:VEVENT
BEGIN:VEVENT
DTSTART;VALUE=DATE:20180913
DTEND;VALUE=DATE:20180914
DTSTAMP:20260422T065145
CREATED:20180730T061438Z
LAST-MODIFIED:20180730T061438Z
UID:1481-1536796800-1536883199@www.katherinehighschool.com.au
SUMMARY:Cert II in Business
DESCRIPTION:
URL:https://www.katherinehighschool.com.au/event/cert-ii-in-business-9/
END:VEVENT
BEGIN:VEVENT
DTSTART;VALUE=DATE:20180910
DTEND;VALUE=DATE:20180915
DTSTAMP:20260422T065145
CREATED:20180417T165453Z
LAST-MODIFIED:20180417T165453Z
UID:1117-1536537600-1536969599@www.katherinehighschool.com.au
SUMMARY:Term 3 Week 8
DESCRIPTION:
URL:https://www.katherinehighschool.com.au/event/term-3-week-8/
END:VEVENT
BEGIN:VEVENT
DTSTART;TZID=UTC:20180908T180000
DTEND;TZID=UTC:20180908T233000
DTSTAMP:20260422T065145
CREATED:20180827T012307Z
LAST-MODIFIED:20180827T012307Z
UID:1735-1536429600-1536449400@www.katherinehighschool.com.au
SUMMARY:Bingo & Trivia Night
DESCRIPTION:Katherine High School Bingo and Trivia Night \n \n18+ event – beer\, wine and spirits available from 6pm \nWhere: Katherine High School gymnasium \nWhen: Saturday the 8th of September\, 6pm – midnight \nTheme: Year 12 muck up day – prizes for best dressed! \n$50 per ticket (10 people per table) \nTickets include: food and entertainment \nAdditional platters available (orders close 31.8.2018): \n$45.00 per cold platter (serves 10) \n$60.00 per hot platter (serves 10) \nBus running from 10:30pm-midnight for a small donation \nAll funds raised goes towards much needed classroom furniture \nGet in quickly\, limited tickets available. \nPlease contact Megan Walker on 08 89738200 for further information.
URL:https://www.katherinehighschool.com.au/event/bingo-trivia-night/
END:VEVENT
BEGIN:VEVENT
DTSTART;VALUE=DATE:20180907
DTEND;VALUE=DATE:20180908
DTSTAMP:20260422T065145
CREATED:20180829T063447Z
LAST-MODIFIED:20180829T063447Z
UID:1776-1536278400-1536364799@www.katherinehighschool.com.au
SUMMARY:HPE Awareness Day
DESCRIPTION:Dodge Ball competition
URL:https://www.katherinehighschool.com.au/event/hpe-awareness-day/
END:VEVENT
BEGIN:VEVENT
DTSTART;TZID=UTC:20180906T080000
DTEND;TZID=UTC:20180906T143000
DTSTAMP:20260422T065145
CREATED:20180727T022401Z
LAST-MODIFIED:20180727T022401Z
UID:1446-1536220800-1536244200@www.katherinehighschool.com.au
SUMMARY:Cert I in Auto
DESCRIPTION:
URL:https://www.katherinehighschool.com.au/event/cert-i-in-auto-6/
END:VEVENT
BEGIN:VEVENT
DTSTART;VALUE=DATE:20180906
DTEND;VALUE=DATE:20180907
DTSTAMP:20260422T065145
CREATED:20180730T061411Z
LAST-MODIFIED:20180730T061411Z
UID:1479-1536192000-1536278399@www.katherinehighschool.com.au
SUMMARY:Cert II in Business
DESCRIPTION:
URL:https://www.katherinehighschool.com.au/event/cert-ii-in-business-8/
END:VEVENT
BEGIN:VEVENT
DTSTART;TZID=UTC:20180905T130000
DTEND;TZID=UTC:20180905T133500
DTSTAMP:20260422T065145
CREATED:20180827T004228Z
LAST-MODIFIED:20180829T063027Z
UID:1733-1536152400-1536154500@www.katherinehighschool.com.au
SUMMARY:Jeans for Genes -Sausage Sizzle & Free dress day
DESCRIPTION:Jeans For Genes sausage sizzle for $2.50 . \nAll students are allowed to wear blue or denim clothing for a gold coin donation.  \n 
URL:https://www.katherinehighschool.com.au/event/jeans-for-genes-sausage-sizzle/
END:VEVENT
BEGIN:VEVENT
DTSTART;TZID=UTC:20180905T103000
DTEND;TZID=UTC:20180905T110000
DTSTAMP:20260422T065145
CREATED:20180827T003313Z
LAST-MODIFIED:20180829T062849Z
UID:1731-1536143400-1536145200@www.katherinehighschool.com.au
SUMMARY:Territory Wildlife Park Fundraiser - Bake sale
DESCRIPTION:Community Studies fundraiser for Territory Wildlife Park
URL:https://www.katherinehighschool.com.au/event/community-studies-fundraiser/
END:VEVENT
BEGIN:VEVENT
DTSTART;VALUE=DATE:20180905
DTEND;VALUE=DATE:20180907
DTSTAMP:20260422T065145
CREATED:20180829T032022Z
LAST-MODIFIED:20180829T032022Z
UID:1770-1536105600-1536278399@www.katherinehighschool.com.au
SUMMARY:Stars Camp - Nitmulik
DESCRIPTION:
URL:https://www.katherinehighschool.com.au/event/stars-camp-nitmulik/
END:VEVENT
BEGIN:VEVENT
DTSTART;VALUE=DATE:20180904
DTEND;VALUE=DATE:20180905
DTSTAMP:20260422T065145
CREATED:20180829T062702Z
LAST-MODIFIED:20180829T062702Z
UID:1772-1536019200-1536105599@www.katherinehighschool.com.au
SUMMARY:Women's Crisis Centre Fundraiser
DESCRIPTION:Raising money to help domestic violence victims for the Women’s Crisis Shelter\, and to raise awareness of the issue. On the 4th of September we will hold a free dress day so students can dress freely and donate a gold coin donation. Gold coins will be collected in the morning in class\, and there will be a tin for collecting coins in the front office if donating in class is missed. Remember that Tuesday next week is a free dress day.  \n 
URL:https://www.katherinehighschool.com.au/event/womens-crisis-centre-fundraiser/
END:VEVENT
BEGIN:VEVENT
DTSTART;VALUE=DATE:20180904
DTEND;VALUE=DATE:20180907
DTSTAMP:20260422T065145
CREATED:20180823T013430Z
LAST-MODIFIED:20180823T013430Z
UID:1711-1536019200-1536278399@www.katherinehighschool.com.au
SUMMARY:Clontarf Northern Carnival
DESCRIPTION:Kununurra
URL:https://www.katherinehighschool.com.au/event/clontarf-northern-carnival/
END:VEVENT
BEGIN:VEVENT
DTSTART;VALUE=DATE:20180903
DTEND;VALUE=DATE:20180904
DTSTAMP:20260422T065145
CREATED:20180817T052301Z
LAST-MODIFIED:20180817T052301Z
UID:1529-1535932800-1536019199@www.katherinehighschool.com.au
SUMMARY:Pupil Free Day
DESCRIPTION:For your information and possible actions there will be a pupil free day for Katherine High School on Monday September 3rd. Katherine High School have received a grant as part of the Katherine Region to lead restorative practices in the region. The restorative approach is an evidence based approach to empower students to see the impact of their choices and work together to find ways to solve issues proactively. This approach is intended to be used across all primary schools to transition to high school who would use the same approach. As part of our new behaviour strategy\, this approach will be an integral component and will be heavily supported for staff and students from our service provider to ensure success.
URL:https://www.katherinehighschool.com.au/event/pupil-free-day-3/
END:VEVENT
END:VCALENDAR