BEGIN:VCALENDAR
VERSION:2.0
PRODID:-//Katherine High School - ECPv6.15.18//NONSGML v1.0//EN
CALSCALE:GREGORIAN
METHOD:PUBLISH
X-WR-CALNAME:Katherine High School
X-ORIGINAL-URL:https://www.katherinehighschool.com.au
X-WR-CALDESC:Events for Katherine High School
REFRESH-INTERVAL;VALUE=DURATION:PT1H
X-Robots-Tag:noindex
X-PUBLISHED-TTL:PT1H
BEGIN:VTIMEZONE
TZID:UTC
BEGIN:STANDARD
TZOFFSETFROM:+0000
TZOFFSETTO:+0000
TZNAME:UTC
DTSTART:20170101T000000
END:STANDARD
END:VTIMEZONE
BEGIN:VTIMEZONE
TZID:Australia/Adelaide
BEGIN:STANDARD
TZOFFSETFROM:+1030
TZOFFSETTO:+0930
TZNAME:ACST
DTSTART:20170401T163000
END:STANDARD
BEGIN:DAYLIGHT
TZOFFSETFROM:+0930
TZOFFSETTO:+1030
TZNAME:ACDT
DTSTART:20170930T163000
END:DAYLIGHT
BEGIN:STANDARD
TZOFFSETFROM:+1030
TZOFFSETTO:+0930
TZNAME:ACST
DTSTART:20180331T163000
END:STANDARD
BEGIN:DAYLIGHT
TZOFFSETFROM:+0930
TZOFFSETTO:+1030
TZNAME:ACDT
DTSTART:20181006T163000
END:DAYLIGHT
BEGIN:STANDARD
TZOFFSETFROM:+1030
TZOFFSETTO:+0930
TZNAME:ACST
DTSTART:20190406T163000
END:STANDARD
BEGIN:DAYLIGHT
TZOFFSETFROM:+0930
TZOFFSETTO:+1030
TZNAME:ACDT
DTSTART:20191005T163000
END:DAYLIGHT
BEGIN:STANDARD
TZOFFSETFROM:+1030
TZOFFSETTO:+0930
TZNAME:ACST
DTSTART:20200404T163000
END:STANDARD
BEGIN:DAYLIGHT
TZOFFSETFROM:+0930
TZOFFSETTO:+1030
TZNAME:ACDT
DTSTART:20201003T163000
END:DAYLIGHT
END:VTIMEZONE
BEGIN:VTIMEZONE
TZID:Australia/Darwin
BEGIN:STANDARD
TZOFFSETFROM:+0930
TZOFFSETTO:+0930
TZNAME:ACST
DTSTART:20180101T000000
END:STANDARD
END:VTIMEZONE
BEGIN:VEVENT
DTSTART;VALUE=DATE:20190225
DTEND;VALUE=DATE:20190302
DTSTAMP:20260421T215503
CREATED:20180820T230306Z
LAST-MODIFIED:20180820T231634Z
UID:1584-1551052800-1551484799@www.katherinehighschool.com.au
SUMMARY:Term 1 Week 5
DESCRIPTION:
URL:https://www.katherinehighschool.com.au/event/term-1-week-5-3/
END:VEVENT
BEGIN:VEVENT
DTSTART;TZID=Australia/Adelaide:20190220T173000
DTEND;TZID=Australia/Adelaide:20190220T183000
DTSTAMP:20260421T215503
CREATED:20190210T235406Z
LAST-MODIFIED:20190210T235733Z
UID:1903-1550683800-1550687400@www.katherinehighschool.com.au
SUMMARY:KHS Council General Meeting
DESCRIPTION:Wednesday 20th Feb 2019 \nKHS Council General Meeting \n5:30 pm in the Katherine Staff Room
URL:https://www.katherinehighschool.com.au/event/wednesday-20th-feb-2019/
LOCATION:staff room\, katherine\, nt\, 0850\, Australia
ORGANIZER;CN="Katherine High School":MAILTO:admin.kathehs@ntschools.net
END:VEVENT
BEGIN:VEVENT
DTSTART;VALUE=DATE:20190219
DTEND;VALUE=DATE:20190220
DTSTAMP:20260421T215503
CREATED:20190218T003247Z
LAST-MODIFIED:20190218T003316Z
UID:1928-1550534400-1550620799@www.katherinehighschool.com.au
SUMMARY:U15 Boys AFL Carnival - Jilkminggan
DESCRIPTION:
URL:https://www.katherinehighschool.com.au/event/u15-boys-afl-carnival/
END:VEVENT
BEGIN:VEVENT
DTSTART;VALUE=DATE:20190218
DTEND;VALUE=DATE:20190223
DTSTAMP:20260421T215503
CREATED:20180820T230122Z
LAST-MODIFIED:20180820T230209Z
UID:1581-1550448000-1550879999@www.katherinehighschool.com.au
SUMMARY:Term 1 Week 4
DESCRIPTION:
URL:https://www.katherinehighschool.com.au/event/term-1-week-5-2/
END:VEVENT
BEGIN:VEVENT
DTSTART;VALUE=DATE:20190214
DTEND;VALUE=DATE:20190215
DTSTAMP:20260421T215503
CREATED:20190218T003358Z
LAST-MODIFIED:20190218T003358Z
UID:1931-1550102400-1550188799@www.katherinehighschool.com.au
SUMMARY:U15 Girls AFL Carnival - Barunga
DESCRIPTION:
URL:https://www.katherinehighschool.com.au/event/u15-girls-afl-carnival-barunga/
END:VEVENT
BEGIN:VEVENT
DTSTART;TZID=UTC:20190213T170000
DTEND;TZID=UTC:20190213T180000
DTSTAMP:20260421T215503
CREATED:20190218T010511Z
LAST-MODIFIED:20190218T010637Z
UID:1965-1550077200-1550080800@www.katherinehighschool.com.au
SUMMARY:NTCET\, VIETNAM and VET in Secondary Schools.
DESCRIPTION:Parent Information Night
URL:https://www.katherinehighschool.com.au/event/ntcet-vietnam-and-vet-in-secondary-schools/
END:VEVENT
BEGIN:VEVENT
DTSTART;TZID=UTC:20190213T080000
DTEND;TZID=UTC:20190213T090000
DTSTAMP:20260421T215503
CREATED:20190218T003447Z
LAST-MODIFIED:20190218T003447Z
UID:1933-1550044800-1550048400@www.katherinehighschool.com.au
SUMMARY:VET in Secondary Schools
DESCRIPTION:Senior School and Year 9
URL:https://www.katherinehighschool.com.au/event/vet-in-secondary-schools/
END:VEVENT
BEGIN:VEVENT
DTSTART;VALUE=DATE:20190211
DTEND;VALUE=DATE:20190216
DTSTAMP:20260421T215503
CREATED:20180820T225840Z
LAST-MODIFIED:20180820T225840Z
UID:1579-1549843200-1550275199@www.katherinehighschool.com.au
SUMMARY:Term 1 Week 3
DESCRIPTION:
URL:https://www.katherinehighschool.com.au/event/term-1-week-3-2/
END:VEVENT
BEGIN:VEVENT
DTSTART;VALUE=DATE:20190204
DTEND;VALUE=DATE:20190209
DTSTAMP:20260421T215503
CREATED:20180820T225756Z
LAST-MODIFIED:20180820T225756Z
UID:1577-1549238400-1549670399@www.katherinehighschool.com.au
SUMMARY:Term 1 Week 2
DESCRIPTION:
URL:https://www.katherinehighschool.com.au/event/term-1-week-2-2/
END:VEVENT
BEGIN:VEVENT
DTSTART;VALUE=DATE:20190130
DTEND;VALUE=DATE:20190131
DTSTAMP:20260421T215503
CREATED:20190120T221218Z
LAST-MODIFIED:20190120T221218Z
UID:1893-1548806400-1548892799@www.katherinehighschool.com.au
SUMMARY:Students Start 2019
DESCRIPTION:Back to school for 2019. \n 
URL:https://www.katherinehighschool.com.au/event/students-start-2019/
END:VEVENT
BEGIN:VEVENT
DTSTART;VALUE=DATE:20190129
DTEND;VALUE=DATE:20190130
DTSTAMP:20260421T215503
CREATED:20190120T221112Z
LAST-MODIFIED:20190120T221120Z
UID:1891-1548720000-1548806399@www.katherinehighschool.com.au
SUMMARY:Pupil Free Day
DESCRIPTION:Pupil Free Day Students do not attend. \nStaff will be doing a PD with Caroline Mccarty. \nStudents Start on the 30th. \n www.caroline-mccarty.com
URL:https://www.katherinehighschool.com.au/event/pupil-free-day-5/
END:VEVENT
BEGIN:VEVENT
DTSTART;VALUE=DATE:20190129
DTEND;VALUE=DATE:20190202
DTSTAMP:20260421T215503
CREATED:20180820T225433Z
LAST-MODIFIED:20180820T225433Z
UID:1575-1548720000-1549065599@www.katherinehighschool.com.au
SUMMARY:Term 1 Week 1
DESCRIPTION:
URL:https://www.katherinehighschool.com.au/event/term-1-week-1-2/
END:VEVENT
BEGIN:VEVENT
DTSTART;VALUE=DATE:20190128
DTEND;VALUE=DATE:20190129
DTSTAMP:20260421T215503
CREATED:20180820T062240Z
LAST-MODIFIED:20180820T062240Z
UID:1556-1548633600-1548719999@www.katherinehighschool.com.au
SUMMARY:Australia day Holiday
DESCRIPTION:
URL:https://www.katherinehighschool.com.au/event/australia-day-holiday/
END:VEVENT
BEGIN:VEVENT
DTSTART;VALUE=DATE:20190126
DTEND;VALUE=DATE:20190127
DTSTAMP:20260421T215503
CREATED:20180820T062152Z
LAST-MODIFIED:20180820T062152Z
UID:1554-1548460800-1548547199@www.katherinehighschool.com.au
SUMMARY:Australia day
DESCRIPTION:
URL:https://www.katherinehighschool.com.au/event/australia-day-2/
END:VEVENT
BEGIN:VEVENT
DTSTART;VALUE=DATE:20190101
DTEND;VALUE=DATE:20190102
DTSTAMP:20260421T215503
CREATED:20180820T062117Z
LAST-MODIFIED:20180820T062117Z
UID:1552-1546300800-1546387199@www.katherinehighschool.com.au
SUMMARY:New Years Day
DESCRIPTION:
URL:https://www.katherinehighschool.com.au/event/new-years-day-3/
END:VEVENT
BEGIN:VEVENT
DTSTART;VALUE=DATE:20181217
DTEND;VALUE=DATE:20190128
DTSTAMP:20260421T215503
CREATED:20180417T165456Z
LAST-MODIFIED:20180417T165456Z
UID:1132-1545004800-1548633599@www.katherinehighschool.com.au
SUMMARY:School Holidays
DESCRIPTION:
URL:https://www.katherinehighschool.com.au/event/school-holidays/
END:VEVENT
BEGIN:VEVENT
DTSTART;VALUE=DATE:20181210
DTEND;VALUE=DATE:20181215
DTSTAMP:20260421T215503
CREATED:20180417T165455Z
LAST-MODIFIED:20180417T165455Z
UID:1131-1544400000-1544831999@www.katherinehighschool.com.au
SUMMARY:Term 4 Week 9
DESCRIPTION:
URL:https://www.katherinehighschool.com.au/event/term-4-week-9/
END:VEVENT
BEGIN:VEVENT
DTSTART;VALUE=DATE:20181204
DTEND;VALUE=DATE:20181211
DTSTAMP:20260421T215503
CREATED:20180823T010434Z
LAST-MODIFIED:20180823T010434Z
UID:1693-1543881600-1544486399@www.katherinehighschool.com.au
SUMMARY:Clontarf End of Year Trip
DESCRIPTION:
URL:https://www.katherinehighschool.com.au/event/clontarf-end-of-year-trip/
END:VEVENT
BEGIN:VEVENT
DTSTART;VALUE=DATE:20181203
DTEND;VALUE=DATE:20181204
DTSTAMP:20260421T215503
CREATED:20180827T225845Z
LAST-MODIFIED:20180827T225845Z
UID:1755-1543795200-1543881599@www.katherinehighschool.com.au
SUMMARY:Orientation Day 2
DESCRIPTION:
URL:https://www.katherinehighschool.com.au/event/orientation-day-2/
END:VEVENT
BEGIN:VEVENT
DTSTART;VALUE=DATE:20181203
DTEND;VALUE=DATE:20181208
DTSTAMP:20260421T215503
CREATED:20180417T165455Z
LAST-MODIFIED:20180417T165455Z
UID:1130-1543795200-1544227199@www.katherinehighschool.com.au
SUMMARY:Term 4 Week 8
DESCRIPTION:
URL:https://www.katherinehighschool.com.au/event/term-4-week-8/
END:VEVENT
BEGIN:VEVENT
DTSTART;TZID=Australia/Adelaide:20181130T183000
DTEND;TZID=Australia/Adelaide:20181130T210000
DTSTAMP:20260421T215503
CREATED:20181031T034415Z
LAST-MODIFIED:20181031T034415Z
UID:1861-1543602600-1543611600@www.katherinehighschool.com.au
SUMMARY:Celebrate the end of a successful school year with the Year 10s of 2018.
DESCRIPTION:You are invited to celebrate the end of a successful school year with the Year 10s of 2018. \nA buffet dinner will be held at Ibis Styles on November 30th (Friday of week 7) at 6 for 6:30. The cost is $35 per person –please pay at the office. \nIf you have taught or worked with the year 10s this year\, I know they would like to see you there. Please let me know if you decide to come\, so I can get you on the ‘cool table’!
URL:https://www.katherinehighschool.com.au/event/celebrate-the-end-of-a-successful-school-year-with-the-year-10s-of-2018/
END:VEVENT
BEGIN:VEVENT
DTSTART;TZID=UTC:20181129T081500
DTEND;TZID=UTC:20181129T090000
DTSTAMP:20260421T215503
CREATED:20181016T001245Z
LAST-MODIFIED:20181107T050248Z
UID:1801-1543479300-1543482000@www.katherinehighschool.com.au
SUMMARY:Katherine High School Awards Presentation
DESCRIPTION:High School Awards Presentation will be held during assembly Week 7 Thursday 29th November.
URL:https://www.katherinehighschool.com.au/event/katherine-high-school-awards-presentation/
END:VEVENT
BEGIN:VEVENT
DTSTART;VALUE=DATE:20181127
DTEND;VALUE=DATE:20181130
DTSTAMP:20260421T215503
CREATED:20181105T235027Z
LAST-MODIFIED:20181105T235027Z
UID:1874-1543276800-1543535999@www.katherinehighschool.com.au
SUMMARY:November 27-29th Barista Course
DESCRIPTION:VET in Secondary Schools upcoming courses: \nNovember 27-29th Barista Course
URL:https://www.katherinehighschool.com.au/event/november-27-29th-barista-course/
ORGANIZER;CN="Katherine High School":MAILTO:admin.kathehs@ntschools.net
END:VEVENT
BEGIN:VEVENT
DTSTART;VALUE=DATE:20181127
DTEND;VALUE=DATE:20181130
DTSTAMP:20260421T215503
CREATED:20180926T062311Z
LAST-MODIFIED:20180926T062311Z
UID:1798-1543276800-1543535999@www.katherinehighschool.com.au
SUMMARY:Barista Course
DESCRIPTION:Are you in Year 11 at KHS this year? Want to learn Barista skills? An opportunity is coming soon for a Prepare and serve espresso coffee qualification. Save the date 27-29th November! Contact Adrienne.mcmahon@ntschools.net or call 89738225
URL:https://www.katherinehighschool.com.au/event/barista-course/
END:VEVENT
BEGIN:VEVENT
DTSTART;VALUE=DATE:20181127
DTEND;VALUE=DATE:20181130
DTSTAMP:20260421T215503
CREATED:20180823T013940Z
LAST-MODIFIED:20180823T013940Z
UID:1720-1543276800-1543535999@www.katherinehighschool.com.au
SUMMARY:Pathways Camp
DESCRIPTION:
URL:https://www.katherinehighschool.com.au/event/pathways-camp/
END:VEVENT
BEGIN:VEVENT
DTSTART;VALUE=DATE:20181126
DTEND;VALUE=DATE:20181208
DTSTAMP:20260421T215503
CREATED:20181105T234925Z
LAST-MODIFIED:20181105T234925Z
UID:1872-1543190400-1544227199@www.katherinehighschool.com.au
SUMMARY:VET in Secondary Schools upcoming courses
DESCRIPTION:VET in Secondary Schools upcoming courses: \nWeek 7 and 8 : 26th November – 7th December \n\nCert II Engineering Pathways\nHorse Skill set\nWelding Skill set\nCert I Auto
URL:https://www.katherinehighschool.com.au/event/vet-in-secondary-schools-upcoming-courses/
ORGANIZER;CN="Katherine High School":MAILTO:admin.kathehs@ntschools.net
END:VEVENT
BEGIN:VEVENT
DTSTART;VALUE=DATE:20181126
DTEND;VALUE=DATE:20181201
DTSTAMP:20260421T215503
CREATED:20180417T165455Z
LAST-MODIFIED:20180417T165455Z
UID:1129-1543190400-1543622399@www.katherinehighschool.com.au
SUMMARY:Term 4 Week 7
DESCRIPTION:
URL:https://www.katherinehighschool.com.au/event/term-4-week-7/
END:VEVENT
BEGIN:VEVENT
DTSTART;TZID=UTC:20181122T093000
DTEND;TZID=UTC:20181122T130000
DTSTAMP:20260421T215503
CREATED:20180817T052021Z
LAST-MODIFIED:20180817T052021Z
UID:1527-1542879000-1542891600@www.katherinehighschool.com.au
SUMMARY:TIMSS Testing – 8.1 Maths
DESCRIPTION:22 Nov – TIMSS Testing – 8.1 Maths – 9:30am to 1:00pm – PL8
URL:https://www.katherinehighschool.com.au/event/timss-testing-8-1-maths/
END:VEVENT
BEGIN:VEVENT
DTSTART;TZID=Australia/Adelaide:20181121T170000
DTEND;TZID=Australia/Adelaide:20181121T190000
DTSTAMP:20260421T215503
CREATED:20181105T234706Z
LAST-MODIFIED:20181105T234706Z
UID:1867-1542819600-1542826800@www.katherinehighschool.com.au
SUMMARY:Industry Engagement Forum
DESCRIPTION:November 21st– Industry Engagement Forum 5-7pm KHS GYM
URL:https://www.katherinehighschool.com.au/event/industry-engagement-forum/
LOCATION:Gym
ORGANIZER;CN="Katherine High School":MAILTO:admin.kathehs@ntschools.net
END:VEVENT
BEGIN:VEVENT
DTSTART;TZID=UTC:20181121T093000
DTEND;TZID=UTC:20181121T130000
DTSTAMP:20260421T215503
CREATED:20180817T051933Z
LAST-MODIFIED:20180817T051933Z
UID:1525-1542792600-1542805200@www.katherinehighschool.com.au
SUMMARY:TIMSS Testing – 8.2 Math
DESCRIPTION:21 Nov – TIMSS Testing – 8.2 Maths – 9:30am to 1:00pm – PL8
URL:https://www.katherinehighschool.com.au/event/timss-testing-8-2-math/
END:VEVENT
END:VCALENDAR