BEGIN:VCALENDAR
VERSION:2.0
PRODID:-//Katherine High School - ECPv6.15.18//NONSGML v1.0//EN
CALSCALE:GREGORIAN
METHOD:PUBLISH
X-WR-CALNAME:Katherine High School
X-ORIGINAL-URL:https://www.katherinehighschool.com.au
X-WR-CALDESC:Events for Katherine High School
REFRESH-INTERVAL;VALUE=DURATION:PT1H
X-Robots-Tag:noindex
X-PUBLISHED-TTL:PT1H
BEGIN:VTIMEZONE
TZID:UTC
BEGIN:STANDARD
TZOFFSETFROM:+0000
TZOFFSETTO:+0000
TZNAME:UTC
DTSTART:20180101T000000
END:STANDARD
END:VTIMEZONE
BEGIN:VTIMEZONE
TZID:Australia/Adelaide
BEGIN:STANDARD
TZOFFSETFROM:+1030
TZOFFSETTO:+0930
TZNAME:ACST
DTSTART:20180331T163000
END:STANDARD
BEGIN:DAYLIGHT
TZOFFSETFROM:+0930
TZOFFSETTO:+1030
TZNAME:ACDT
DTSTART:20181006T163000
END:DAYLIGHT
BEGIN:STANDARD
TZOFFSETFROM:+1030
TZOFFSETTO:+0930
TZNAME:ACST
DTSTART:20190406T163000
END:STANDARD
BEGIN:DAYLIGHT
TZOFFSETFROM:+0930
TZOFFSETTO:+1030
TZNAME:ACDT
DTSTART:20191005T163000
END:DAYLIGHT
BEGIN:STANDARD
TZOFFSETFROM:+1030
TZOFFSETTO:+0930
TZNAME:ACST
DTSTART:20200404T163000
END:STANDARD
BEGIN:DAYLIGHT
TZOFFSETFROM:+0930
TZOFFSETTO:+1030
TZNAME:ACDT
DTSTART:20201003T163000
END:DAYLIGHT
END:VTIMEZONE
BEGIN:VTIMEZONE
TZID:Australia/Darwin
BEGIN:STANDARD
TZOFFSETFROM:+0930
TZOFFSETTO:+0930
TZNAME:ACST
DTSTART:20180101T000000
END:STANDARD
END:VTIMEZONE
BEGIN:VEVENT
DTSTART;TZID=UTC:20190329T080000
DTEND;TZID=UTC:20190329T170000
DTSTAMP:20260421T143313
CREATED:20190218T041700Z
LAST-MODIFIED:20190218T041700Z
UID:1982-1553846400-1553878800@www.katherinehighschool.com.au
SUMMARY:CDU Information session
DESCRIPTION:Refer Anna Benson
URL:https://www.katherinehighschool.com.au/event/cdu-information-session/
END:VEVENT
BEGIN:VEVENT
DTSTART;TZID=UTC:20190327T113000
DTEND;TZID=UTC:20190327T143000
DTSTAMP:20260421T143313
CREATED:20190226T034835Z
LAST-MODIFIED:20190226T034835Z
UID:1992-1553686200-1553697000@www.katherinehighschool.com.au
SUMMARY:PHN High School to Health Workshops
DESCRIPTION:The PHN group will be conducting  High School to Health workshops in the gym on Wednesday 27th March. These will be for senior years students and will start at 11.30am until the afternoon.  \n 
URL:https://www.katherinehighschool.com.au/event/phn-high-school-to-health-workshops/
END:VEVENT
BEGIN:VEVENT
DTSTART;VALUE=DATE:20190324
DTEND;VALUE=DATE:20190330
DTSTAMP:20260421T143313
CREATED:20180820T234323Z
LAST-MODIFIED:20180820T234323Z
UID:1594-1553385600-1553903999@www.katherinehighschool.com.au
SUMMARY:Term 1 week 9
DESCRIPTION:
URL:https://www.katherinehighschool.com.au/event/term-1-week-9-2/
END:VEVENT
BEGIN:VEVENT
DTSTART;VALUE=DATE:20190323
DTEND;VALUE=DATE:20190324
DTSTAMP:20260421T143313
CREATED:20190218T003853Z
LAST-MODIFIED:20190218T003853Z
UID:1941-1553299200-1553385599@www.katherinehighschool.com.au
SUMMARY:AFLW Curtain Raiser
DESCRIPTION:Katherine Region will play Darwin region in an U15 girls football game on the 23rd of Feb. This is prior to the AFLW Crows V Freo game.
URL:https://www.katherinehighschool.com.au/event/aflw-curtain-raiser/
END:VEVENT
BEGIN:VEVENT
DTSTART;VALUE=DATE:20190322
DTEND;VALUE=DATE:20190323
DTSTAMP:20260421T143313
CREATED:20190218T003928Z
LAST-MODIFIED:20190221T233007Z
UID:1943-1553212800-1553299199@www.katherinehighschool.com.au
SUMMARY:Harmony Day Celebrations
DESCRIPTION:Harmony Day\, \nOn Friday the 22 of March Students and staff will be celebrating our cultures through food\, music\, and art. There will be an event during lunch at the W Block Quadrangle. Students and staff are encouraged to wear orange or clothes that represent their culture.
URL:https://www.katherinehighschool.com.au/event/harmony-day-celebrations/
END:VEVENT
BEGIN:VEVENT
DTSTART;VALUE=DATE:20190320
DTEND;VALUE=DATE:20190323
DTSTAMP:20260421T143313
CREATED:20190301T054708Z
LAST-MODIFIED:20190301T054708Z
UID:1997-1553040000-1553299199@www.katherinehighschool.com.au
SUMMARY:Year 7 Camp
DESCRIPTION:Homegroups 7.1 and 7.5 from 20th March to the 22nd of March. \n 
URL:https://www.katherinehighschool.com.au/event/year-7-camp-2/
END:VEVENT
BEGIN:VEVENT
DTSTART;VALUE=DATE:20190318
DTEND;VALUE=DATE:20190321
DTSTAMP:20260421T143313
CREATED:20190301T054617Z
LAST-MODIFIED:20190301T054617Z
UID:1995-1552867200-1553126399@www.katherinehighschool.com.au
SUMMARY:Year 7 Camp
DESCRIPTION:Homegroups 7.2\, 7.3 and 7.4 out from the 18th March to the 20th March. \n 
URL:https://www.katherinehighschool.com.au/event/year-7-camp/
END:VEVENT
BEGIN:VEVENT
DTSTART;VALUE=DATE:20190318
DTEND;VALUE=DATE:20190323
DTSTAMP:20260421T143313
CREATED:20180820T234216Z
LAST-MODIFIED:20180820T234216Z
UID:1592-1552867200-1553299199@www.katherinehighschool.com.au
SUMMARY:Term 1  Week 8
DESCRIPTION:
URL:https://www.katherinehighschool.com.au/event/term-1-week-8-2/
END:VEVENT
BEGIN:VEVENT
DTSTART;VALUE=DATE:20190315
DTEND;VALUE=DATE:20190316
DTSTAMP:20260421T143313
CREATED:20190218T003754Z
LAST-MODIFIED:20190218T003754Z
UID:1938-1552608000-1552694399@www.katherinehighschool.com.au
SUMMARY:acara My school Update
DESCRIPTION:https://myschool.edu.au/
URL:https://www.katherinehighschool.com.au/event/acara-my-school-update/
END:VEVENT
BEGIN:VEVENT
DTSTART;VALUE=DATE:20190315
DTEND;VALUE=DATE:20190316
DTSTAMP:20260421T143313
CREATED:20190214T034207Z
LAST-MODIFIED:20190214T034207Z
UID:1909-1552608000-1552694399@www.katherinehighschool.com.au
SUMMARY:Pupil Free Day
DESCRIPTION:Pupil free day for high schools across the North… our staff will be going to middle years conference and senior years clarifying sessions.
URL:https://www.katherinehighschool.com.au/event/pupil-free-day-6/
END:VEVENT
BEGIN:VEVENT
DTSTART;TZID=UTC:20190313T173000
DTEND;TZID=UTC:20190313T183000
DTSTAMP:20260421T143313
CREATED:20190210T235555Z
LAST-MODIFIED:20190210T235555Z
UID:1905-1552498200-1552501800@www.katherinehighschool.com.au
SUMMARY:KHS Annual General Meeting (AGM)
DESCRIPTION:Wednesday 13th March 2019 \nKHS Annual General Meeting (AGM) \n5:30 pm in Katherine Staffroom
URL:https://www.katherinehighschool.com.au/event/khs-annual-general-meeting-agm/
LOCATION:staff room\, katherine\, nt\, 0850\, Australia
ORGANIZER;CN="Katherine High School":MAILTO:admin.kathehs@ntschools.net
END:VEVENT
BEGIN:VEVENT
DTSTART;VALUE=DATE:20190311
DTEND;VALUE=DATE:20190316
DTSTAMP:20260421T143313
CREATED:20180820T230446Z
LAST-MODIFIED:20180820T233721Z
UID:1588-1552262400-1552694399@www.katherinehighschool.com.au
SUMMARY:Term 1 Week 7
DESCRIPTION:
URL:https://www.katherinehighschool.com.au/event/term-1-week-7-2/
END:VEVENT
BEGIN:VEVENT
DTSTART;VALUE=DATE:20190307
DTEND;VALUE=DATE:20190308
DTSTAMP:20260421T143313
CREATED:20190215T005226Z
LAST-MODIFIED:20190215T005226Z
UID:1919-1551916800-1552003199@www.katherinehighschool.com.au
SUMMARY:Immunisation Clinic
DESCRIPTION:Yr 7s and catch up from 2018
URL:https://www.katherinehighschool.com.au/event/immunisation-clinic-2/
END:VEVENT
BEGIN:VEVENT
DTSTART;TZID=UTC:20190306T170000
DTEND;TZID=UTC:20190306T190000
DTSTAMP:20260421T143313
CREATED:20190214T224515Z
LAST-MODIFIED:20190214T224515Z
UID:1913-1551891600-1551898800@www.katherinehighschool.com.au
SUMMARY:Parent Teacher Interviews
DESCRIPTION:School Gym 5pm-7pm \nAll parents are encouraged to attend.
URL:https://www.katherinehighschool.com.au/event/parent-teacher-interviews-2/
END:VEVENT
BEGIN:VEVENT
DTSTART;VALUE=DATE:20190304
DTEND;VALUE=DATE:20190309
DTSTAMP:20260421T143313
CREATED:20180820T230409Z
LAST-MODIFIED:20180820T233142Z
UID:1586-1551657600-1552089599@www.katherinehighschool.com.au
SUMMARY:Term 1 Week 6
DESCRIPTION:
URL:https://www.katherinehighschool.com.au/event/term-1-week-6-2/
END:VEVENT
BEGIN:VEVENT
DTSTART;VALUE=DATE:20190227
DTEND;VALUE=DATE:20190301
DTSTAMP:20260421T143313
CREATED:20190218T003522Z
LAST-MODIFIED:20190218T003604Z
UID:1935-1551225600-1551398399@www.katherinehighschool.com.au
SUMMARY:Meg Ward Cup: Under 16's girls rugby league
DESCRIPTION:
URL:https://www.katherinehighschool.com.au/event/u16-girls-rugby-carnival-darwin/
END:VEVENT
BEGIN:VEVENT
DTSTART;VALUE=DATE:20190225
DTEND;VALUE=DATE:20190302
DTSTAMP:20260421T143313
CREATED:20180820T230306Z
LAST-MODIFIED:20180820T231634Z
UID:1584-1551052800-1551484799@www.katherinehighschool.com.au
SUMMARY:Term 1 Week 5
DESCRIPTION:
URL:https://www.katherinehighschool.com.au/event/term-1-week-5-3/
END:VEVENT
BEGIN:VEVENT
DTSTART;TZID=Australia/Adelaide:20190220T173000
DTEND;TZID=Australia/Adelaide:20190220T183000
DTSTAMP:20260421T143313
CREATED:20190210T235406Z
LAST-MODIFIED:20190210T235733Z
UID:1903-1550683800-1550687400@www.katherinehighschool.com.au
SUMMARY:KHS Council General Meeting
DESCRIPTION:Wednesday 20th Feb 2019 \nKHS Council General Meeting \n5:30 pm in the Katherine Staff Room
URL:https://www.katherinehighschool.com.au/event/wednesday-20th-feb-2019/
LOCATION:staff room\, katherine\, nt\, 0850\, Australia
ORGANIZER;CN="Katherine High School":MAILTO:admin.kathehs@ntschools.net
END:VEVENT
BEGIN:VEVENT
DTSTART;VALUE=DATE:20190219
DTEND;VALUE=DATE:20190220
DTSTAMP:20260421T143313
CREATED:20190218T003247Z
LAST-MODIFIED:20190218T003316Z
UID:1928-1550534400-1550620799@www.katherinehighschool.com.au
SUMMARY:U15 Boys AFL Carnival - Jilkminggan
DESCRIPTION:
URL:https://www.katherinehighschool.com.au/event/u15-boys-afl-carnival/
END:VEVENT
BEGIN:VEVENT
DTSTART;VALUE=DATE:20190218
DTEND;VALUE=DATE:20190223
DTSTAMP:20260421T143313
CREATED:20180820T230122Z
LAST-MODIFIED:20180820T230209Z
UID:1581-1550448000-1550879999@www.katherinehighschool.com.au
SUMMARY:Term 1 Week 4
DESCRIPTION:
URL:https://www.katherinehighschool.com.au/event/term-1-week-5-2/
END:VEVENT
BEGIN:VEVENT
DTSTART;VALUE=DATE:20190214
DTEND;VALUE=DATE:20190215
DTSTAMP:20260421T143313
CREATED:20190218T003358Z
LAST-MODIFIED:20190218T003358Z
UID:1931-1550102400-1550188799@www.katherinehighschool.com.au
SUMMARY:U15 Girls AFL Carnival - Barunga
DESCRIPTION:
URL:https://www.katherinehighschool.com.au/event/u15-girls-afl-carnival-barunga/
END:VEVENT
BEGIN:VEVENT
DTSTART;TZID=UTC:20190213T170000
DTEND;TZID=UTC:20190213T180000
DTSTAMP:20260421T143313
CREATED:20190218T010511Z
LAST-MODIFIED:20190218T010637Z
UID:1965-1550077200-1550080800@www.katherinehighschool.com.au
SUMMARY:NTCET\, VIETNAM and VET in Secondary Schools.
DESCRIPTION:Parent Information Night
URL:https://www.katherinehighschool.com.au/event/ntcet-vietnam-and-vet-in-secondary-schools/
END:VEVENT
BEGIN:VEVENT
DTSTART;TZID=UTC:20190213T080000
DTEND;TZID=UTC:20190213T090000
DTSTAMP:20260421T143313
CREATED:20190218T003447Z
LAST-MODIFIED:20190218T003447Z
UID:1933-1550044800-1550048400@www.katherinehighschool.com.au
SUMMARY:VET in Secondary Schools
DESCRIPTION:Senior School and Year 9
URL:https://www.katherinehighschool.com.au/event/vet-in-secondary-schools/
END:VEVENT
BEGIN:VEVENT
DTSTART;VALUE=DATE:20190211
DTEND;VALUE=DATE:20190216
DTSTAMP:20260421T143313
CREATED:20180820T225840Z
LAST-MODIFIED:20180820T225840Z
UID:1579-1549843200-1550275199@www.katherinehighschool.com.au
SUMMARY:Term 1 Week 3
DESCRIPTION:
URL:https://www.katherinehighschool.com.au/event/term-1-week-3-2/
END:VEVENT
BEGIN:VEVENT
DTSTART;VALUE=DATE:20190204
DTEND;VALUE=DATE:20190209
DTSTAMP:20260421T143313
CREATED:20180820T225756Z
LAST-MODIFIED:20180820T225756Z
UID:1577-1549238400-1549670399@www.katherinehighschool.com.au
SUMMARY:Term 1 Week 2
DESCRIPTION:
URL:https://www.katherinehighschool.com.au/event/term-1-week-2-2/
END:VEVENT
BEGIN:VEVENT
DTSTART;VALUE=DATE:20190130
DTEND;VALUE=DATE:20190131
DTSTAMP:20260421T143313
CREATED:20190120T221218Z
LAST-MODIFIED:20190120T221218Z
UID:1893-1548806400-1548892799@www.katherinehighschool.com.au
SUMMARY:Students Start 2019
DESCRIPTION:Back to school for 2019. \n 
URL:https://www.katherinehighschool.com.au/event/students-start-2019/
END:VEVENT
BEGIN:VEVENT
DTSTART;VALUE=DATE:20190129
DTEND;VALUE=DATE:20190130
DTSTAMP:20260421T143313
CREATED:20190120T221112Z
LAST-MODIFIED:20190120T221120Z
UID:1891-1548720000-1548806399@www.katherinehighschool.com.au
SUMMARY:Pupil Free Day
DESCRIPTION:Pupil Free Day Students do not attend. \nStaff will be doing a PD with Caroline Mccarty. \nStudents Start on the 30th. \n www.caroline-mccarty.com
URL:https://www.katherinehighschool.com.au/event/pupil-free-day-5/
END:VEVENT
BEGIN:VEVENT
DTSTART;VALUE=DATE:20190129
DTEND;VALUE=DATE:20190202
DTSTAMP:20260421T143313
CREATED:20180820T225433Z
LAST-MODIFIED:20180820T225433Z
UID:1575-1548720000-1549065599@www.katherinehighschool.com.au
SUMMARY:Term 1 Week 1
DESCRIPTION:
URL:https://www.katherinehighschool.com.au/event/term-1-week-1-2/
END:VEVENT
BEGIN:VEVENT
DTSTART;VALUE=DATE:20190128
DTEND;VALUE=DATE:20190129
DTSTAMP:20260421T143313
CREATED:20180820T062240Z
LAST-MODIFIED:20180820T062240Z
UID:1556-1548633600-1548719999@www.katherinehighschool.com.au
SUMMARY:Australia day Holiday
DESCRIPTION:
URL:https://www.katherinehighschool.com.au/event/australia-day-holiday/
END:VEVENT
BEGIN:VEVENT
DTSTART;VALUE=DATE:20190126
DTEND;VALUE=DATE:20190127
DTSTAMP:20260421T143313
CREATED:20180820T062152Z
LAST-MODIFIED:20180820T062152Z
UID:1554-1548460800-1548547199@www.katherinehighschool.com.au
SUMMARY:Australia day
DESCRIPTION:
URL:https://www.katherinehighschool.com.au/event/australia-day-2/
END:VEVENT
END:VCALENDAR