BEGIN:VCALENDAR
VERSION:2.0
PRODID:-//Katherine High School - ECPv6.15.18//NONSGML v1.0//EN
CALSCALE:GREGORIAN
METHOD:PUBLISH
X-WR-CALNAME:Katherine High School
X-ORIGINAL-URL:https://www.katherinehighschool.com.au
X-WR-CALDESC:Events for Katherine High School
REFRESH-INTERVAL;VALUE=DURATION:PT1H
X-Robots-Tag:noindex
X-PUBLISHED-TTL:PT1H
BEGIN:VTIMEZONE
TZID:UTC
BEGIN:STANDARD
TZOFFSETFROM:+0000
TZOFFSETTO:+0000
TZNAME:UTC
DTSTART:20180101T000000
END:STANDARD
END:VTIMEZONE
BEGIN:VTIMEZONE
TZID:Australia/Adelaide
BEGIN:STANDARD
TZOFFSETFROM:+1030
TZOFFSETTO:+0930
TZNAME:ACST
DTSTART:20180331T163000
END:STANDARD
BEGIN:DAYLIGHT
TZOFFSETFROM:+0930
TZOFFSETTO:+1030
TZNAME:ACDT
DTSTART:20181006T163000
END:DAYLIGHT
BEGIN:STANDARD
TZOFFSETFROM:+1030
TZOFFSETTO:+0930
TZNAME:ACST
DTSTART:20190406T163000
END:STANDARD
BEGIN:DAYLIGHT
TZOFFSETFROM:+0930
TZOFFSETTO:+1030
TZNAME:ACDT
DTSTART:20191005T163000
END:DAYLIGHT
BEGIN:STANDARD
TZOFFSETFROM:+1030
TZOFFSETTO:+0930
TZNAME:ACST
DTSTART:20200404T163000
END:STANDARD
BEGIN:DAYLIGHT
TZOFFSETFROM:+0930
TZOFFSETTO:+1030
TZNAME:ACDT
DTSTART:20201003T163000
END:DAYLIGHT
END:VTIMEZONE
BEGIN:VEVENT
DTSTART;VALUE=DATE:20190729
DTEND;VALUE=DATE:20190730
DTSTAMP:20260421T075337
CREATED:20190403T033439Z
LAST-MODIFIED:20190403T033439Z
UID:2030-1564358400-1564444799@www.katherinehighschool.com.au
SUMMARY:Cross Country
DESCRIPTION:
URL:https://www.katherinehighschool.com.au/event/cross-country-2/
END:VEVENT
BEGIN:VEVENT
DTSTART;VALUE=DATE:20190729
DTEND;VALUE=DATE:20190803
DTSTAMP:20260421T075337
CREATED:20180821T003835Z
LAST-MODIFIED:20180821T003835Z
UID:1626-1564358400-1564790399@www.katherinehighschool.com.au
SUMMARY:Term 3 Week 2
DESCRIPTION:
URL:https://www.katherinehighschool.com.au/event/term-3-week-2-2/
END:VEVENT
BEGIN:VEVENT
DTSTART;VALUE=DATE:20190723
DTEND;VALUE=DATE:20190727
DTSTAMP:20260421T075337
CREATED:20180821T003712Z
LAST-MODIFIED:20180821T003914Z
UID:1624-1563840000-1564185599@www.katherinehighschool.com.au
SUMMARY:Term 3 Week 1
DESCRIPTION:
URL:https://www.katherinehighschool.com.au/event/term-week-1/
END:VEVENT
BEGIN:VEVENT
DTSTART;VALUE=DATE:20190722
DTEND;VALUE=DATE:20190723
DTSTAMP:20260421T075337
CREATED:20180821T025006Z
LAST-MODIFIED:20180821T025006Z
UID:1650-1563753600-1563839999@www.katherinehighschool.com.au
SUMMARY:Pupil free Day
DESCRIPTION:
URL:https://www.katherinehighschool.com.au/event/pupil-free-day-4/
END:VEVENT
BEGIN:VEVENT
DTSTART;VALUE=DATE:20190719
DTEND;VALUE=DATE:20190720
DTSTAMP:20260421T075337
CREATED:20180820T062720Z
LAST-MODIFIED:20180820T062720Z
UID:1568-1563494400-1563580799@www.katherinehighschool.com.au
SUMMARY:Katherine Show Day
DESCRIPTION:
URL:https://www.katherinehighschool.com.au/event/katherine-show-day/
END:VEVENT
BEGIN:VEVENT
DTSTART;TZID=UTC:20190710T090000
DTEND;TZID=UTC:20190717T150000
DTSTAMP:20260421T075337
CREATED:20190412T060623Z
LAST-MODIFIED:20190412T060623Z
UID:2044-1562749200-1563375600@www.katherinehighschool.com.au
SUMMARY:Year 12 School Holiday Program
DESCRIPTION:KHS Library \nTo assist students who may be at risk of failing Year 12. Students will complete at least one 10 credit course. \nStudents to bring laptops\, jumper & their own food. Microwave\, kettle & refrigerator on site.
URL:https://www.katherinehighschool.com.au/event/year-12-school-holiday-program/
ORGANIZER;CN="Katherine High School":MAILTO:admin.kathehs@ntschools.net
END:VEVENT
BEGIN:VEVENT
DTSTART;VALUE=DATE:20190701
DTEND;VALUE=DATE:20190720
DTSTAMP:20260421T075337
CREATED:20180821T001314Z
LAST-MODIFIED:20180821T001314Z
UID:1622-1561939200-1563580799@www.katherinehighschool.com.au
SUMMARY:Semester Break
DESCRIPTION:
URL:https://www.katherinehighschool.com.au/event/semester-break/
END:VEVENT
BEGIN:VEVENT
DTSTART;VALUE=DATE:20190625
DTEND;VALUE=DATE:20190627
DTSTAMP:20260421T075337
CREATED:20190606T231317Z
LAST-MODIFIED:20190606T231317Z
UID:2090-1561420800-1561593599@www.katherinehighschool.com.au
SUMMARY:Year & Leadership Camp
DESCRIPTION:Further information contact – Scott Bertus
URL:https://www.katherinehighschool.com.au/event/year-leadership-camp/
END:VEVENT
BEGIN:VEVENT
DTSTART;VALUE=DATE:20190625
DTEND;VALUE=DATE:20190626
DTSTAMP:20260421T075337
CREATED:20190314T015736Z
LAST-MODIFIED:20190512T225339Z
UID:2008-1561420800-1561507199@www.katherinehighschool.com.au
SUMMARY:Try a Trade day Lendlease (Tindal)
DESCRIPTION:
URL:https://www.katherinehighschool.com.au/event/try-a-trade-day-lendlease-tindal-2/
END:VEVENT
BEGIN:VEVENT
DTSTART;VALUE=DATE:20190624
DTEND;VALUE=DATE:20190629
DTSTAMP:20260421T075337
CREATED:20180821T001134Z
LAST-MODIFIED:20180821T001134Z
UID:1620-1561334400-1561766399@www.katherinehighschool.com.au
SUMMARY:Term 2 Week 10
DESCRIPTION:
URL:https://www.katherinehighschool.com.au/event/term-2-week-10-2/
END:VEVENT
BEGIN:VEVENT
DTSTART;TZID=UTC:20190619T080000
DTEND;TZID=UTC:20190621T170000
DTSTAMP:20260421T075337
CREATED:20190515T010704Z
LAST-MODIFIED:20190531T003907Z
UID:2078-1560931200-1561136400@www.katherinehighschool.com.au
SUMMARY:Outdoor Education Camp - Snorkelling
DESCRIPTION:
URL:https://www.katherinehighschool.com.au/event/outdoor-education-camp-4/
END:VEVENT
BEGIN:VEVENT
DTSTART;VALUE=DATE:20190617
DTEND;VALUE=DATE:20190622
DTSTAMP:20260421T075337
CREATED:20180821T000702Z
LAST-MODIFIED:20180821T000702Z
UID:1618-1560729600-1561161599@www.katherinehighschool.com.au
SUMMARY:Term 2 Week 9
DESCRIPTION:
URL:https://www.katherinehighschool.com.au/event/term-2-week-9-2/
END:VEVENT
BEGIN:VEVENT
DTSTART;VALUE=DATE:20190615
DTEND;VALUE=DATE:20190626
DTSTAMP:20260421T075337
CREATED:20190326T005035Z
LAST-MODIFIED:20190326T005035Z
UID:2021-1560556800-1561507199@www.katherinehighschool.com.au
SUMMARY:Year 9 Melbourne and Canberra trip
DESCRIPTION:The Year 9 Melbourne and Canberra trip this year is being held in Term 2\, from 15th-25th of June. \nemail Alexandra Biggs <alexandra.biggs@ntschools.net> form more details.
URL:https://www.katherinehighschool.com.au/event/year-9-melbourne-and-canberra-trip/
END:VEVENT
BEGIN:VEVENT
DTSTART;VALUE=DATE:20190614
DTEND;VALUE=DATE:20190615
DTSTAMP:20260421T075337
CREATED:20190512T225412Z
LAST-MODIFIED:20190512T225412Z
UID:2063-1560470400-1560556799@www.katherinehighschool.com.au
SUMMARY:Mt Todd Mine Tour
DESCRIPTION:
URL:https://www.katherinehighschool.com.au/event/mt-todd-mine-tour/
END:VEVENT
BEGIN:VEVENT
DTSTART;VALUE=DATE:20190614
DTEND;VALUE=DATE:20190615
DTSTAMP:20260421T075337
CREATED:20190218T005835Z
LAST-MODIFIED:20190218T005835Z
UID:1953-1560470400-1560556799@www.katherinehighschool.com.au
SUMMARY:KATH REGION: Athletics Carnival
DESCRIPTION:
URL:https://www.katherinehighschool.com.au/event/kath-region-athletics-carnival/
END:VEVENT
BEGIN:VEVENT
DTSTART;VALUE=DATE:20190613
DTEND;VALUE=DATE:20190614
DTSTAMP:20260421T075337
CREATED:20190512T225515Z
LAST-MODIFIED:20190512T225515Z
UID:2067-1560384000-1560470399@www.katherinehighschool.com.au
SUMMARY:Dinner Equalitea- Stage 2 Catering
DESCRIPTION:
URL:https://www.katherinehighschool.com.au/event/dinner-equalitea-stage-2-catering-2/
END:VEVENT
BEGIN:VEVENT
DTSTART;TZID=UTC:20190611T080000
DTEND;TZID=UTC:20190614T170000
DTSTAMP:20260421T075337
CREATED:20180821T000427Z
LAST-MODIFIED:20180821T000427Z
UID:1616-1560240000-1560531600@www.katherinehighschool.com.au
SUMMARY:Term 2 Week 8
DESCRIPTION:
URL:https://www.katherinehighschool.com.au/event/term-2-week-8-2/
END:VEVENT
BEGIN:VEVENT
DTSTART;VALUE=DATE:20190610
DTEND;VALUE=DATE:20190611
DTSTAMP:20260421T075337
CREATED:20180820T062641Z
LAST-MODIFIED:20180820T062641Z
UID:1566-1560124800-1560211199@www.katherinehighschool.com.au
SUMMARY:Queens Birthday
DESCRIPTION:
URL:https://www.katherinehighschool.com.au/event/queens-birthday-2/
END:VEVENT
BEGIN:VEVENT
DTSTART;VALUE=DATE:20190606
DTEND;VALUE=DATE:20190607
DTSTAMP:20260421T075337
CREATED:20190512T225445Z
LAST-MODIFIED:20190512T225445Z
UID:2065-1559779200-1559865599@www.katherinehighschool.com.au
SUMMARY:Dinner Equalitea- Stage 2 Catering
DESCRIPTION:
URL:https://www.katherinehighschool.com.au/event/dinner-equalitea-stage-2-catering/
END:VEVENT
BEGIN:VEVENT
DTSTART;VALUE=DATE:20190603
DTEND;VALUE=DATE:20190608
DTSTAMP:20260421T075337
CREATED:20180820T235747Z
LAST-MODIFIED:20180820T235747Z
UID:1614-1559520000-1559951999@www.katherinehighschool.com.au
SUMMARY:Term 2 Week 7
DESCRIPTION:
URL:https://www.katherinehighschool.com.au/event/term-2-week-7-2/
END:VEVENT
BEGIN:VEVENT
DTSTART;VALUE=DATE:20190529
DTEND;VALUE=DATE:20190530
DTSTAMP:20260421T075337
CREATED:20190218T005728Z
LAST-MODIFIED:20190516T021514Z
UID:1951-1559088000-1559174399@www.katherinehighschool.com.au
SUMMARY:KHS Athletics Carnival
DESCRIPTION:
URL:https://www.katherinehighschool.com.au/event/khs-athletics-carnival/
END:VEVENT
BEGIN:VEVENT
DTSTART;VALUE=DATE:20190527
DTEND;VALUE=DATE:20190601
DTSTAMP:20260421T075337
CREATED:20180820T235659Z
LAST-MODIFIED:20180820T235659Z
UID:1612-1558915200-1559347199@www.katherinehighschool.com.au
SUMMARY:Term 2 Week 6
DESCRIPTION:
URL:https://www.katherinehighschool.com.au/event/term-2-week-6-2/
END:VEVENT
BEGIN:VEVENT
DTSTART;TZID=UTC:20190522T080000
DTEND;TZID=UTC:20190524T170000
DTSTAMP:20260421T075337
CREATED:20190515T010608Z
LAST-MODIFIED:20190516T022316Z
UID:2076-1558512000-1558717200@www.katherinehighschool.com.au
SUMMARY:Outdoor Education Camp - Bushwalk
DESCRIPTION:
URL:https://www.katherinehighschool.com.au/event/outdoor-education-camp-3/
END:VEVENT
BEGIN:VEVENT
DTSTART;TZID=UTC:20190520T080000
DTEND;TZID=UTC:20190524T170000
DTSTAMP:20260421T075337
CREATED:20180820T235556Z
LAST-MODIFIED:20180820T235556Z
UID:1610-1558339200-1558717200@www.katherinehighschool.com.au
SUMMARY:Term 2 Week 5
DESCRIPTION:
URL:https://www.katherinehighschool.com.au/event/term-2-week-5-2/
END:VEVENT
BEGIN:VEVENT
DTSTART;VALUE=DATE:20190513
DTEND;VALUE=DATE:20190518
DTSTAMP:20260421T075337
CREATED:20180820T235456Z
LAST-MODIFIED:20180820T235456Z
UID:1608-1557705600-1558137599@www.katherinehighschool.com.au
SUMMARY:Term 2 Week 4
DESCRIPTION:
URL:https://www.katherinehighschool.com.au/event/term-2-week-4-2/
END:VEVENT
BEGIN:VEVENT
DTSTART;VALUE=DATE:20190509
DTEND;VALUE=DATE:20190510
DTSTAMP:20260421T075337
CREATED:20190218T005624Z
LAST-MODIFIED:20190218T005624Z
UID:1949-1557360000-1557446399@www.katherinehighschool.com.au
SUMMARY:Luke Kelly Cup / NRL Tag Day
DESCRIPTION:
URL:https://www.katherinehighschool.com.au/event/luke-kelly-cup-nrl-tag-day/
END:VEVENT
BEGIN:VEVENT
DTSTART;TZID=UTC:20190508T173000
DTEND;TZID=UTC:20190508T183000
DTSTAMP:20260421T075337
CREATED:20190412T060336Z
LAST-MODIFIED:20190412T060336Z
UID:2042-1557336600-1557340200@www.katherinehighschool.com.au
SUMMARY:Year 12 Parent Information Evening
DESCRIPTION:KHS Staffroom. \nDiscussion of NTCET completion\, Tertiary studies\, life beyond KHS\, Community Studies B\, Strategies to support students
URL:https://www.katherinehighschool.com.au/event/year-12-parent-information-evening/
ORGANIZER;CN="Katherine High School":MAILTO:admin.kathehs@ntschools.net
END:VEVENT
BEGIN:VEVENT
DTSTART;VALUE=DATE:20190506
DTEND;VALUE=DATE:20190511
DTSTAMP:20260421T075337
CREATED:20180820T235407Z
LAST-MODIFIED:20180820T235407Z
UID:1606-1557100800-1557532799@www.katherinehighschool.com.au
SUMMARY:Term 2 Week 3
DESCRIPTION:
URL:https://www.katherinehighschool.com.au/event/term-2-week-3/
END:VEVENT
BEGIN:VEVENT
DTSTART;VALUE=DATE:20190506
DTEND;VALUE=DATE:20190507
DTSTAMP:20260421T075337
CREATED:20180820T062552Z
LAST-MODIFIED:20180820T062552Z
UID:1564-1557100800-1557187199@www.katherinehighschool.com.au
SUMMARY:May Day
DESCRIPTION:
URL:https://www.katherinehighschool.com.au/event/may-day-2/
END:VEVENT
BEGIN:VEVENT
DTSTART;VALUE=DATE:20190502
DTEND;VALUE=DATE:20190503
DTSTAMP:20260421T075337
CREATED:20190215T005320Z
LAST-MODIFIED:20190215T005320Z
UID:1921-1556755200-1556841599@www.katherinehighschool.com.au
SUMMARY:Immunisation clinic
DESCRIPTION:Yr 10s and catch up from March clinic
URL:https://www.katherinehighschool.com.au/event/immunisation-clinic-3/
END:VEVENT
END:VCALENDAR