BEGIN:VCALENDAR
VERSION:2.0
PRODID:-//Katherine High School - ECPv6.15.18//NONSGML v1.0//EN
CALSCALE:GREGORIAN
METHOD:PUBLISH
X-WR-CALNAME:Katherine High School
X-ORIGINAL-URL:https://www.katherinehighschool.com.au
X-WR-CALDESC:Events for Katherine High School
REFRESH-INTERVAL;VALUE=DURATION:PT1H
X-Robots-Tag:noindex
X-PUBLISHED-TTL:PT1H
BEGIN:VTIMEZONE
TZID:UTC
BEGIN:STANDARD
TZOFFSETFROM:+0000
TZOFFSETTO:+0000
TZNAME:UTC
DTSTART:20180101T000000
END:STANDARD
END:VTIMEZONE
BEGIN:VTIMEZONE
TZID:Australia/Adelaide
BEGIN:STANDARD
TZOFFSETFROM:+1030
TZOFFSETTO:+0930
TZNAME:ACST
DTSTART:20180331T163000
END:STANDARD
BEGIN:DAYLIGHT
TZOFFSETFROM:+0930
TZOFFSETTO:+1030
TZNAME:ACDT
DTSTART:20181006T163000
END:DAYLIGHT
BEGIN:STANDARD
TZOFFSETFROM:+1030
TZOFFSETTO:+0930
TZNAME:ACST
DTSTART:20190406T163000
END:STANDARD
BEGIN:DAYLIGHT
TZOFFSETFROM:+0930
TZOFFSETTO:+1030
TZNAME:ACDT
DTSTART:20191005T163000
END:DAYLIGHT
BEGIN:STANDARD
TZOFFSETFROM:+1030
TZOFFSETTO:+0930
TZNAME:ACST
DTSTART:20200404T163000
END:STANDARD
BEGIN:DAYLIGHT
TZOFFSETFROM:+0930
TZOFFSETTO:+1030
TZNAME:ACDT
DTSTART:20201003T163000
END:DAYLIGHT
END:VTIMEZONE
BEGIN:VEVENT
DTSTART;VALUE=DATE:20190910
DTEND;VALUE=DATE:20190911
DTSTAMP:20260421T042909
CREATED:20190819T225050Z
LAST-MODIFIED:20190819T225050Z
UID:2117-1568073600-1568159999@www.katherinehighschool.com.au
SUMMARY:Year 6 Transition Day (Year 7 2020)
DESCRIPTION:
URL:https://www.katherinehighschool.com.au/event/year-6-transition-day-year-7-2020/
END:VEVENT
BEGIN:VEVENT
DTSTART;VALUE=DATE:20190909
DTEND;VALUE=DATE:20190914
DTSTAMP:20260421T042909
CREATED:20180821T021928Z
LAST-MODIFIED:20180821T021928Z
UID:1641-1567987200-1568419199@www.katherinehighschool.com.au
SUMMARY:Term 3 week 8
DESCRIPTION:
URL:https://www.katherinehighschool.com.au/event/term-3-week-8-2/
END:VEVENT
BEGIN:VEVENT
DTSTART;TZID=UTC:20190905T080000
DTEND;TZID=UTC:20190905T170000
DTSTAMP:20260421T042909
CREATED:20190218T010225Z
LAST-MODIFIED:20190218T010225Z
UID:1959-1567670400-1567702800@www.katherinehighschool.com.au
SUMMARY:PLP Community Event
DESCRIPTION:
URL:https://www.katherinehighschool.com.au/event/plp-community-event/
END:VEVENT
BEGIN:VEVENT
DTSTART;VALUE=DATE:20190904
DTEND;VALUE=DATE:20190905
DTSTAMP:20260421T042909
CREATED:20190314T015907Z
LAST-MODIFIED:20190314T015907Z
UID:2012-1567555200-1567641599@www.katherinehighschool.com.au
SUMMARY:Employment Forum
DESCRIPTION:KHS\, Stars & Clontarf
URL:https://www.katherinehighschool.com.au/event/employment-forum/
END:VEVENT
BEGIN:VEVENT
DTSTART;VALUE=DATE:20190904
DTEND;VALUE=DATE:20190905
DTSTAMP:20260421T042909
CREATED:20190314T012617Z
LAST-MODIFIED:20190314T012617Z
UID:2006-1567555200-1567641599@www.katherinehighschool.com.au
SUMMARY:KHS/STARS/CLONTARF- Employment Forum.(GYM)
DESCRIPTION:
URL:https://www.katherinehighschool.com.au/event/khs-stars-clontarf-employment-forum-gym/
END:VEVENT
BEGIN:VEVENT
DTSTART;TZID=UTC:20190902T080000
DTEND;TZID=UTC:20190906T170000
DTSTAMP:20260421T042909
CREATED:20190515T010528Z
LAST-MODIFIED:20190820T041207Z
UID:2074-1567411200-1567789200@www.katherinehighschool.com.au
SUMMARY:Outdoor Education Camp
DESCRIPTION:
URL:https://www.katherinehighschool.com.au/event/outdoor-education-camp-2/
CATEGORIES:Excursions
END:VEVENT
BEGIN:VEVENT
DTSTART;VALUE=DATE:20190902
DTEND;VALUE=DATE:20190907
DTSTAMP:20260421T042909
CREATED:20180821T013625Z
LAST-MODIFIED:20180821T013625Z
UID:1639-1567382400-1567814399@www.katherinehighschool.com.au
SUMMARY:Term 3 week 7
DESCRIPTION:
URL:https://www.katherinehighschool.com.au/event/term-3-week-7-2/
END:VEVENT
BEGIN:VEVENT
DTSTART;TZID=UTC:20190829T173000
DTEND;TZID=UTC:20190829T183000
DTSTAMP:20260421T042909
CREATED:20190819T003720Z
LAST-MODIFIED:20190820T043842Z
UID:2106-1567099800-1567103400@www.katherinehighschool.com.au
SUMMARY:Year 7 2020 Information Evening
DESCRIPTION:Year 5 and 6 Parents\, Guardians and Carers  \nare invited to attend the:  \nYear 7 2020 \nInformation Evening \nThursday 29th August 2019 \nKatherine High School Library \n5.30-6.30pm \nInformation will include: \n\nYear 7 Curriculum\nElective Subjects\nEnrolment Procedures\nTransition Program\nYear 7 Camp and Wellbeing Program\n\n  \nWe would love to see you there! \n  \nAny questions please email: \nNatalie Bondfield or Scott Bertus \nnatalie.bondfield@ntschools.net or scott.bertus@ntschools.net
URL:https://www.katherinehighschool.com.au/event/year-7-2020-information-evening/
LOCATION:KHS Library
END:VEVENT
BEGIN:VEVENT
DTSTART;TZID=UTC:20190828T170000
DTEND;TZID=UTC:20190828T190000
DTSTAMP:20260421T042909
CREATED:20190214T224602Z
LAST-MODIFIED:20190214T224602Z
UID:1915-1567011600-1567018800@www.katherinehighschool.com.au
SUMMARY:Parent Teacher Night
DESCRIPTION:School Gym 5pm-7pm \nAll parents are encouraged to attend.
URL:https://www.katherinehighschool.com.au/event/parent-teacher-night-2/
END:VEVENT
BEGIN:VEVENT
DTSTART;VALUE=DATE:20190826
DTEND;VALUE=DATE:20190831
DTSTAMP:20260421T042909
CREATED:20180821T013445Z
LAST-MODIFIED:20180821T013445Z
UID:1637-1566777600-1567209599@www.katherinehighschool.com.au
SUMMARY:Term 3 Week 6
DESCRIPTION:
URL:https://www.katherinehighschool.com.au/event/term-3-week-6-2/
END:VEVENT
BEGIN:VEVENT
DTSTART;VALUE=DATE:20190821
DTEND;VALUE=DATE:20190822
DTSTAMP:20260421T042909
CREATED:20190314T012506Z
LAST-MODIFIED:20190820T041343Z
UID:2004-1566345600-1566431999@www.katherinehighschool.com.au
SUMMARY:Career Expo (YMCA)
DESCRIPTION:
URL:https://www.katherinehighschool.com.au/event/career-expo-ymca/
END:VEVENT
BEGIN:VEVENT
DTSTART;TZID=UTC:20190819T173000
DTEND;TZID=UTC:20190819T183000
DTSTAMP:20260421T042909
CREATED:20190819T003926Z
LAST-MODIFIED:20190819T003926Z
UID:2109-1566235800-1566239400@www.katherinehighschool.com.au
SUMMARY:Katherine High School Council General  Meeting
DESCRIPTION:KHS Council meeting\n5:30 pm in KHS staff room.\nAll parents welcome \nIf you are looking for a way you can support the school\, even if it’s only in a small way\, why not join one of our subcommittees. If you have a passion for fundraising\, are skilled in writing grants\, an interest in improving communication or infrastructure\, please come and join us to make Katherine High great or contact us through email admin.kathehs@ntschools.net.
URL:https://www.katherinehighschool.com.au/event/katherine-high-school-council-general-meeting/
LOCATION:staff room\, katherine\, nt\, 0850\, Australia
END:VEVENT
BEGIN:VEVENT
DTSTART;TZID=UTC:20190819T080000
DTEND;TZID=UTC:20190823T170000
DTSTAMP:20260421T042909
CREATED:20180821T013357Z
LAST-MODIFIED:20180821T013357Z
UID:1635-1566201600-1566579600@www.katherinehighschool.com.au
SUMMARY:Term 3 week 5
DESCRIPTION:
URL:https://www.katherinehighschool.com.au/event/term-3-week-5/
END:VEVENT
BEGIN:VEVENT
DTSTART;VALUE=DATE:20190819
DTEND;VALUE=DATE:20190824
DTSTAMP:20260421T042909
CREATED:20190515T010311Z
LAST-MODIFIED:20190820T041116Z
UID:2072-1566172800-1566604799@www.katherinehighschool.com.au
SUMMARY:Outdoor Education Camp
DESCRIPTION:
URL:https://www.katherinehighschool.com.au/event/outdoor-education-camp/
CATEGORIES:Excursions
END:VEVENT
BEGIN:VEVENT
DTSTART;TZID=UTC:20190812T080000
DTEND;TZID=UTC:20190812T170000
DTSTAMP:20260421T042909
CREATED:20190214T034742Z
LAST-MODIFIED:20190214T034742Z
UID:1911-1565596800-1565629200@www.katherinehighschool.com.au
SUMMARY:School Photography Day
DESCRIPTION:Katherine High School\nSchool Photography Date: 12/8/2019\nAdvanced Life Photography\nONLINE ORDER CODE: XWB CW6 2Y4\n 
URL:https://www.katherinehighschool.com.au/event/school-photography-day/
END:VEVENT
BEGIN:VEVENT
DTSTART;VALUE=DATE:20190812
DTEND;VALUE=DATE:20190817
DTSTAMP:20260421T042909
CREATED:20180821T012352Z
LAST-MODIFIED:20180821T012352Z
UID:1633-1565568000-1565999999@www.katherinehighschool.com.au
SUMMARY:Term 3 week 4
DESCRIPTION:
URL:https://www.katherinehighschool.com.au/event/term-3-week-4-2/
END:VEVENT
BEGIN:VEVENT
DTSTART;VALUE=DATE:20190805
DTEND;VALUE=DATE:20190810
DTSTAMP:20260421T042909
CREATED:20190515T010215Z
LAST-MODIFIED:20190531T004016Z
UID:2069-1564963200-1565395199@www.katherinehighschool.com.au
SUMMARY:Stage 2 Outdoor Education Lake Argyle
DESCRIPTION:
URL:https://www.katherinehighschool.com.au/event/stage-2-outdoor-education-camp/
END:VEVENT
BEGIN:VEVENT
DTSTART;VALUE=DATE:20190805
DTEND;VALUE=DATE:20190806
DTSTAMP:20260421T042909
CREATED:20190218T010051Z
LAST-MODIFIED:20190218T010051Z
UID:1957-1564963200-1565049599@www.katherinehighschool.com.au
SUMMARY:Public Holiday - Picnic day
DESCRIPTION:
URL:https://www.katherinehighschool.com.au/event/public-holiday-picnic-day/
END:VEVENT
BEGIN:VEVENT
DTSTART;VALUE=DATE:20190805
DTEND;VALUE=DATE:20190810
DTSTAMP:20260421T042909
CREATED:20180821T004854Z
LAST-MODIFIED:20180821T004854Z
UID:1631-1564963200-1565395199@www.katherinehighschool.com.au
SUMMARY:Term 3 Week 3
DESCRIPTION:
URL:https://www.katherinehighschool.com.au/event/term-3-week-3-3/
END:VEVENT
BEGIN:VEVENT
DTSTART;TZID=UTC:20190730T113000
DTEND;TZID=UTC:20190730T140000
DTSTAMP:20260421T042909
CREATED:20190712T062707Z
LAST-MODIFIED:20190712T062707Z
UID:2097-1564486200-1564495200@www.katherinehighschool.com.au
SUMMARY:Duke of Ed Car wash
DESCRIPTION:
URL:https://www.katherinehighschool.com.au/event/duke-of-ed-car-wash/
END:VEVENT
BEGIN:VEVENT
DTSTART;VALUE=DATE:20190729
DTEND;VALUE=DATE:20190730
DTSTAMP:20260421T042909
CREATED:20190403T033439Z
LAST-MODIFIED:20190403T033439Z
UID:2030-1564358400-1564444799@www.katherinehighschool.com.au
SUMMARY:Cross Country
DESCRIPTION:
URL:https://www.katherinehighschool.com.au/event/cross-country-2/
END:VEVENT
BEGIN:VEVENT
DTSTART;VALUE=DATE:20190729
DTEND;VALUE=DATE:20190803
DTSTAMP:20260421T042909
CREATED:20180821T003835Z
LAST-MODIFIED:20180821T003835Z
UID:1626-1564358400-1564790399@www.katherinehighschool.com.au
SUMMARY:Term 3 Week 2
DESCRIPTION:
URL:https://www.katherinehighschool.com.au/event/term-3-week-2-2/
END:VEVENT
BEGIN:VEVENT
DTSTART;VALUE=DATE:20190723
DTEND;VALUE=DATE:20190727
DTSTAMP:20260421T042909
CREATED:20180821T003712Z
LAST-MODIFIED:20180821T003914Z
UID:1624-1563840000-1564185599@www.katherinehighschool.com.au
SUMMARY:Term 3 Week 1
DESCRIPTION:
URL:https://www.katherinehighschool.com.au/event/term-week-1/
END:VEVENT
BEGIN:VEVENT
DTSTART;VALUE=DATE:20190722
DTEND;VALUE=DATE:20190723
DTSTAMP:20260421T042909
CREATED:20180821T025006Z
LAST-MODIFIED:20180821T025006Z
UID:1650-1563753600-1563839999@www.katherinehighschool.com.au
SUMMARY:Pupil free Day
DESCRIPTION:
URL:https://www.katherinehighschool.com.au/event/pupil-free-day-4/
END:VEVENT
BEGIN:VEVENT
DTSTART;VALUE=DATE:20190719
DTEND;VALUE=DATE:20190720
DTSTAMP:20260421T042909
CREATED:20180820T062720Z
LAST-MODIFIED:20180820T062720Z
UID:1568-1563494400-1563580799@www.katherinehighschool.com.au
SUMMARY:Katherine Show Day
DESCRIPTION:
URL:https://www.katherinehighschool.com.au/event/katherine-show-day/
END:VEVENT
BEGIN:VEVENT
DTSTART;TZID=UTC:20190710T090000
DTEND;TZID=UTC:20190717T150000
DTSTAMP:20260421T042909
CREATED:20190412T060623Z
LAST-MODIFIED:20190412T060623Z
UID:2044-1562749200-1563375600@www.katherinehighschool.com.au
SUMMARY:Year 12 School Holiday Program
DESCRIPTION:KHS Library \nTo assist students who may be at risk of failing Year 12. Students will complete at least one 10 credit course. \nStudents to bring laptops\, jumper & their own food. Microwave\, kettle & refrigerator on site.
URL:https://www.katherinehighschool.com.au/event/year-12-school-holiday-program/
ORGANIZER;CN="Katherine High School":MAILTO:admin.kathehs@ntschools.net
END:VEVENT
BEGIN:VEVENT
DTSTART;VALUE=DATE:20190701
DTEND;VALUE=DATE:20190720
DTSTAMP:20260421T042909
CREATED:20180821T001314Z
LAST-MODIFIED:20180821T001314Z
UID:1622-1561939200-1563580799@www.katherinehighschool.com.au
SUMMARY:Semester Break
DESCRIPTION:
URL:https://www.katherinehighschool.com.au/event/semester-break/
END:VEVENT
BEGIN:VEVENT
DTSTART;VALUE=DATE:20190625
DTEND;VALUE=DATE:20190627
DTSTAMP:20260421T042909
CREATED:20190606T231317Z
LAST-MODIFIED:20190606T231317Z
UID:2090-1561420800-1561593599@www.katherinehighschool.com.au
SUMMARY:Year & Leadership Camp
DESCRIPTION:Further information contact – Scott Bertus
URL:https://www.katherinehighschool.com.au/event/year-leadership-camp/
END:VEVENT
BEGIN:VEVENT
DTSTART;VALUE=DATE:20190625
DTEND;VALUE=DATE:20190626
DTSTAMP:20260421T042909
CREATED:20190314T015736Z
LAST-MODIFIED:20190512T225339Z
UID:2008-1561420800-1561507199@www.katherinehighschool.com.au
SUMMARY:Try a Trade day Lendlease (Tindal)
DESCRIPTION:
URL:https://www.katherinehighschool.com.au/event/try-a-trade-day-lendlease-tindal-2/
END:VEVENT
BEGIN:VEVENT
DTSTART;VALUE=DATE:20190624
DTEND;VALUE=DATE:20190629
DTSTAMP:20260421T042909
CREATED:20180821T001134Z
LAST-MODIFIED:20180821T001134Z
UID:1620-1561334400-1561766399@www.katherinehighschool.com.au
SUMMARY:Term 2 Week 10
DESCRIPTION:
URL:https://www.katherinehighschool.com.au/event/term-2-week-10-2/
END:VEVENT
END:VCALENDAR