BEGIN:VCALENDAR
VERSION:2.0
PRODID:-//Katherine High School - ECPv6.15.18//NONSGML v1.0//EN
CALSCALE:GREGORIAN
METHOD:PUBLISH
X-WR-CALNAME:Katherine High School
X-ORIGINAL-URL:https://www.katherinehighschool.com.au
X-WR-CALDESC:Events for Katherine High School
REFRESH-INTERVAL;VALUE=DURATION:PT1H
X-Robots-Tag:noindex
X-PUBLISHED-TTL:PT1H
BEGIN:VTIMEZONE
TZID:UTC
BEGIN:STANDARD
TZOFFSETFROM:+0000
TZOFFSETTO:+0000
TZNAME:UTC
DTSTART:20180101T000000
END:STANDARD
END:VTIMEZONE
BEGIN:VTIMEZONE
TZID:Australia/Adelaide
BEGIN:STANDARD
TZOFFSETFROM:+1030
TZOFFSETTO:+0930
TZNAME:ACST
DTSTART:20180331T163000
END:STANDARD
BEGIN:DAYLIGHT
TZOFFSETFROM:+0930
TZOFFSETTO:+1030
TZNAME:ACDT
DTSTART:20181006T163000
END:DAYLIGHT
BEGIN:STANDARD
TZOFFSETFROM:+1030
TZOFFSETTO:+0930
TZNAME:ACST
DTSTART:20190406T163000
END:STANDARD
BEGIN:DAYLIGHT
TZOFFSETFROM:+0930
TZOFFSETTO:+1030
TZNAME:ACDT
DTSTART:20191005T163000
END:DAYLIGHT
BEGIN:STANDARD
TZOFFSETFROM:+1030
TZOFFSETTO:+0930
TZNAME:ACST
DTSTART:20200404T163000
END:STANDARD
BEGIN:DAYLIGHT
TZOFFSETFROM:+0930
TZOFFSETTO:+1030
TZNAME:ACDT
DTSTART:20201003T163000
END:DAYLIGHT
END:VTIMEZONE
BEGIN:VEVENT
DTSTART;TZID=UTC:20191127T084500
DTEND;TZID=UTC:20191127T094500
DTSTAMP:20260421T042834
CREATED:20191108T002826Z
LAST-MODIFIED:20191108T002826Z
UID:2208-1574844300-1574847900@www.katherinehighschool.com.au
SUMMARY:Katherine High School Awards Presentation
DESCRIPTION:
URL:https://www.katherinehighschool.com.au/event/katherine-high-school-awards-presentation-2/
END:VEVENT
BEGIN:VEVENT
DTSTART;VALUE=DATE:20191125
DTEND;VALUE=DATE:20191130
DTSTAMP:20260421T042834
CREATED:20180821T030919Z
LAST-MODIFIED:20180821T030919Z
UID:1664-1574640000-1575071999@www.katherinehighschool.com.au
SUMMARY:Term 4 week 7
DESCRIPTION:
URL:https://www.katherinehighschool.com.au/event/term-4-week-7-2/
END:VEVENT
BEGIN:VEVENT
DTSTART;TZID=UTC:20191122T080000
DTEND;TZID=UTC:20191122T170000
DTSTAMP:20260421T042834
CREATED:20190927T004546Z
LAST-MODIFIED:20190927T004546Z
UID:2189-1574409600-1574442000@www.katherinehighschool.com.au
SUMMARY:Year 11 Finish studies
DESCRIPTION:
URL:https://www.katherinehighschool.com.au/event/year-11-finish-studies/
END:VEVENT
BEGIN:VEVENT
DTSTART;TZID=UTC:20191120T173000
DTEND;TZID=UTC:20191120T183000
DTSTAMP:20260421T042834
CREATED:20190819T004406Z
LAST-MODIFIED:20190819T004406Z
UID:2115-1574271000-1574274600@www.katherinehighschool.com.au
SUMMARY:Katherine High School General Council Meeting
DESCRIPTION:KHS Council meeting\n5:30 pm in KHS staff room.\nAll parents welcome \nIf you are looking for a way you can support the school\, even if it’s only in a small way\, why not join one of our subcommittees. If you have a passion for fundraising\, are skilled in writing grants\, an interest in improving communication or infrastructure\, please come and join us to make Katherine High great or contact us through email admin.kathehs@ntschools.net.
URL:https://www.katherinehighschool.com.au/event/katherine-high-school-general-council-meeting-3/
END:VEVENT
BEGIN:VEVENT
DTSTART;VALUE=DATE:20191119
DTEND;VALUE=DATE:20191120
DTSTAMP:20260421T042834
CREATED:20190910T034235Z
LAST-MODIFIED:20190909T043850Z
UID:2162-1574121600-1574207999@www.katherinehighschool.com.au
SUMMARY:Year 6 Orientation day
DESCRIPTION:
URL:https://www.katherinehighschool.com.au/event/year-6-orientation-day-1/
END:VEVENT
BEGIN:VEVENT
DTSTART;VALUE=DATE:20191118
DTEND;VALUE=DATE:20191123
DTSTAMP:20260421T042834
CREATED:20180821T030715Z
LAST-MODIFIED:20180821T030715Z
UID:1662-1574035200-1574467199@www.katherinehighschool.com.au
SUMMARY:Term 4 Week 6
DESCRIPTION:
URL:https://www.katherinehighschool.com.au/event/term-4-week-6-2/
END:VEVENT
BEGIN:VEVENT
DTSTART;TZID=UTC:20191115T173000
DTEND;TZID=UTC:20191115T193000
DTSTAMP:20260421T042834
CREATED:20191017T000107Z
LAST-MODIFIED:20191017T000327Z
UID:2197-1573839000-1573846200@www.katherinehighschool.com.au
SUMMARY:Clontarf Academy end of year awards
DESCRIPTION:
URL:https://www.katherinehighschool.com.au/event/clontarf-academy-end-of-year-awards/
END:VEVENT
BEGIN:VEVENT
DTSTART;VALUE=DATE:20191115
DTEND;VALUE=DATE:20191116
DTSTAMP:20260421T042834
CREATED:20190218T012637Z
LAST-MODIFIED:20190218T012637Z
UID:1980-1573776000-1573862399@www.katherinehighschool.com.au
SUMMARY:Stage 2 Physical Education Exam
DESCRIPTION:
URL:https://www.katherinehighschool.com.au/event/stage-2-physical-education-exam/
END:VEVENT
BEGIN:VEVENT
DTSTART;VALUE=DATE:20191115
DTEND;VALUE=DATE:20191116
DTSTAMP:20260421T042834
CREATED:20190218T010355Z
LAST-MODIFIED:20190218T010355Z
UID:1963-1573776000-1573862399@www.katherinehighschool.com.au
SUMMARY:KATH REGION: Swimming Carnival
DESCRIPTION:
URL:https://www.katherinehighschool.com.au/event/kath-region-swimming-carnival/
END:VEVENT
BEGIN:VEVENT
DTSTART;TZID=UTC:20191113T173000
DTEND;TZID=UTC:20191113T190000
DTSTAMP:20260421T042834
CREATED:20191017T000428Z
LAST-MODIFIED:20191017T000428Z
UID:2201-1573666200-1573671600@www.katherinehighschool.com.au
SUMMARY:Stars end of year presentation
DESCRIPTION:
URL:https://www.katherinehighschool.com.au/event/stars-end-of-year-presentation/
END:VEVENT
BEGIN:VEVENT
DTSTART;VALUE=DATE:20191113
DTEND;VALUE=DATE:20191114
DTSTAMP:20260421T042834
CREATED:20190218T012545Z
LAST-MODIFIED:20190218T012545Z
UID:1977-1573603200-1573689599@www.katherinehighschool.com.au
SUMMARY:Stage 2 Chemistry Exam
DESCRIPTION:
URL:https://www.katherinehighschool.com.au/event/stage-2-chemistry-exam/
END:VEVENT
BEGIN:VEVENT
DTSTART;VALUE=DATE:20191111
DTEND;VALUE=DATE:20191112
DTSTAMP:20260421T042834
CREATED:20190909T043953Z
LAST-MODIFIED:20190909T043953Z
UID:2165-1573430400-1573516799@www.katherinehighschool.com.au
SUMMARY:Year 6  Transition Day 2
DESCRIPTION:Year 6  Transition Day 2
URL:https://www.katherinehighschool.com.au/event/year-6-transition-day-2/
END:VEVENT
BEGIN:VEVENT
DTSTART;VALUE=DATE:20191111
DTEND;VALUE=DATE:20191112
DTSTAMP:20260421T042834
CREATED:20190218T012504Z
LAST-MODIFIED:20190218T012504Z
UID:1975-1573430400-1573516799@www.katherinehighschool.com.au
SUMMARY:Stage 2 Physics Exam
DESCRIPTION:
URL:https://www.katherinehighschool.com.au/event/stage-2-physics-exam/
END:VEVENT
BEGIN:VEVENT
DTSTART;VALUE=DATE:20191111
DTEND;VALUE=DATE:20191116
DTSTAMP:20260421T042834
CREATED:20180821T030543Z
LAST-MODIFIED:20180821T030543Z
UID:1660-1573430400-1573862399@www.katherinehighschool.com.au
SUMMARY:Term 4 week 5
DESCRIPTION:
URL:https://www.katherinehighschool.com.au/event/term-4-week-5-3/
END:VEVENT
BEGIN:VEVENT
DTSTART;VALUE=DATE:20191108
DTEND;VALUE=DATE:20191109
DTSTAMP:20260421T042834
CREATED:20190218T012429Z
LAST-MODIFIED:20190218T012429Z
UID:1973-1573171200-1573257599@www.katherinehighschool.com.au
SUMMARY:Stage 2 General Mathematics
DESCRIPTION:
URL:https://www.katherinehighschool.com.au/event/stage-2-general-mathematics/
END:VEVENT
BEGIN:VEVENT
DTSTART;TZID=Australia/Adelaide:20191105T080000
DTEND;TZID=Australia/Adelaide:20191105T170000
DTSTAMP:20260421T042834
CREATED:20190909T044053Z
LAST-MODIFIED:20190909T044053Z
UID:2169-1572940800-1572973200@www.katherinehighschool.com.au
SUMMARY:Orientation Day 2
DESCRIPTION:
URL:https://www.katherinehighschool.com.au/event/orientation-day-2-2/
END:VEVENT
BEGIN:VEVENT
DTSTART;VALUE=DATE:20191105
DTEND;VALUE=DATE:20191106
DTSTAMP:20260421T042834
CREATED:20190218T012253Z
LAST-MODIFIED:20190218T012306Z
UID:1969-1572912000-1572998399@www.katherinehighschool.com.au
SUMMARY:Stage 2 Essential Mathematics Exam
DESCRIPTION:
URL:https://www.katherinehighschool.com.au/event/stage-2-essential-mathematics-exam/
END:VEVENT
BEGIN:VEVENT
DTSTART;VALUE=DATE:20191105
DTEND;VALUE=DATE:20191106
DTSTAMP:20260421T042834
CREATED:20190819T225246Z
LAST-MODIFIED:20190819T225246Z
UID:2121-1572912000-1572998399@www.katherinehighschool.com.au
SUMMARY:Year 6 Transition Day
DESCRIPTION:
URL:https://www.katherinehighschool.com.au/event/year-6-transition-day/
END:VEVENT
BEGIN:VEVENT
DTSTART;VALUE=DATE:20191105
DTEND;VALUE=DATE:20191106
DTSTAMP:20260421T042834
CREATED:20190218T012353Z
LAST-MODIFIED:20190218T012353Z
UID:1971-1572912000-1572998399@www.katherinehighschool.com.au
SUMMARY:Stage 2 Mathematical Methods Exam
DESCRIPTION:
URL:https://www.katherinehighschool.com.au/event/stage-2-mathematical-methods-exam/
END:VEVENT
BEGIN:VEVENT
DTSTART;TZID=UTC:20191104T080000
DTEND;TZID=UTC:20191104T101000
DTSTAMP:20260421T042834
CREATED:20190218T012129Z
LAST-MODIFIED:20190218T012129Z
UID:1967-1572854400-1572862200@www.katherinehighschool.com.au
SUMMARY:Stage 2 Biology Exam
DESCRIPTION:
URL:https://www.katherinehighschool.com.au/event/stage-2-biology-exam/
END:VEVENT
BEGIN:VEVENT
DTSTART;VALUE=DATE:20191104
DTEND;VALUE=DATE:20191109
DTSTAMP:20260421T042834
CREATED:20180821T030507Z
LAST-MODIFIED:20180821T030507Z
UID:1658-1572825600-1573257599@www.katherinehighschool.com.au
SUMMARY:Term 4 week 4
DESCRIPTION:
URL:https://www.katherinehighschool.com.au/event/term-4-week-4-2/
END:VEVENT
BEGIN:VEVENT
DTSTART;VALUE=DATE:20191030
DTEND;VALUE=DATE:20191102
DTSTAMP:20260421T042834
CREATED:20191014T022304Z
LAST-MODIFIED:20191014T022304Z
UID:2194-1572393600-1572652799@www.katherinehighschool.com.au
SUMMARY:Stage 1 Snorkelling Camp
DESCRIPTION:
URL:https://www.katherinehighschool.com.au/event/stage-1-snorkelling-camp/
END:VEVENT
BEGIN:VEVENT
DTSTART;VALUE=DATE:20191028
DTEND;VALUE=DATE:20191102
DTSTAMP:20260421T042834
CREATED:20180821T030325Z
LAST-MODIFIED:20180821T030325Z
UID:1656-1572220800-1572652799@www.katherinehighschool.com.au
SUMMARY:Term 4 week 3
DESCRIPTION:
URL:https://www.katherinehighschool.com.au/event/term-4-week-3-2/
END:VEVENT
BEGIN:VEVENT
DTSTART;VALUE=DATE:20191024
DTEND;VALUE=DATE:20191025
DTSTAMP:20260421T042834
CREATED:20190215T005411Z
LAST-MODIFIED:20190215T005411Z
UID:1923-1571875200-1571961599@www.katherinehighschool.com.au
SUMMARY:Immunisation clinic
DESCRIPTION:Yr 7 and catch up
URL:https://www.katherinehighschool.com.au/event/immunisation-clinic-4/
END:VEVENT
BEGIN:VEVENT
DTSTART;TZID=UTC:20191023T180000
DTEND;TZID=UTC:20191023T220000
DTSTAMP:20260421T042834
CREATED:20190412T061305Z
LAST-MODIFIED:20190412T061305Z
UID:2050-1571853600-1571868000@www.katherinehighschool.com.au
SUMMARY:Year 12 Presentation Evening
DESCRIPTION:KHS Gymnasium \nBy invitation only. \nDinner cost $100* \n(DATE & COSTS* TO BE CONFIRMED)
URL:https://www.katherinehighschool.com.au/event/year-12-presentation-evening/
END:VEVENT
BEGIN:VEVENT
DTSTART;VALUE=DATE:20191022
DTEND;VALUE=DATE:20191025
DTSTAMP:20260421T042834
CREATED:20190906T013622Z
LAST-MODIFIED:20190906T013622Z
UID:2160-1571702400-1571961599@www.katherinehighschool.com.au
SUMMARY:Ag Inspiration Program
DESCRIPTION:Refer Anna Benson \n 
URL:https://www.katherinehighschool.com.au/event/ag-inspiration-program/
END:VEVENT
BEGIN:VEVENT
DTSTART;VALUE=DATE:20191021
DTEND;VALUE=DATE:20191026
DTSTAMP:20260421T042834
CREATED:20180821T030207Z
LAST-MODIFIED:20180821T030207Z
UID:1654-1571616000-1572047999@www.katherinehighschool.com.au
SUMMARY:Term 4 week 2
DESCRIPTION:
URL:https://www.katherinehighschool.com.au/event/term-4-week-2-2/
END:VEVENT
BEGIN:VEVENT
DTSTART;TZID=UTC:20191018T094500
DTEND;TZID=UTC:20191018T111000
DTSTAMP:20260421T042834
CREATED:20190412T061034Z
LAST-MODIFIED:20191007T002501Z
UID:2048-1571391900-1571397000@www.katherinehighschool.com.au
SUMMARY:Year 12 Final Assembly & Parent Morning Tea
DESCRIPTION:KHS Gymnasium & staffroom \n(DATES AND TIMES TO BE CONFIRMED)
URL:https://www.katherinehighschool.com.au/event/year-12-final-assembly-parent-morning-tea/
END:VEVENT
BEGIN:VEVENT
DTSTART;TZID=UTC:20191016T173000
DTEND;TZID=UTC:20191016T183000
DTSTAMP:20260421T042834
CREATED:20190819T004246Z
LAST-MODIFIED:20190819T004246Z
UID:2113-1571247000-1571250600@www.katherinehighschool.com.au
SUMMARY:Katherine High School General Council Meeting
DESCRIPTION:KHS Council meeting\n5:30 pm in KHS staff room.\nAll parents welcome \nIf you are looking for a way you can support the school\, even if it’s only in a small way\, why not join one of our subcommittees. If you have a passion for fundraising\, are skilled in writing grants\, an interest in improving communication or infrastructure\, please come and join us to make Katherine High great or contact us through email admin.kathehs@ntschools.net.
URL:https://www.katherinehighschool.com.au/event/katherine-high-school-general-council-meeting-2/
LOCATION:staff room\, katherine\, nt\, 0850\, Australia
END:VEVENT
BEGIN:VEVENT
DTSTART;TZID=UTC:20191014T120000
DTEND;TZID=UTC:20191017T170000
DTSTAMP:20260421T042834
CREATED:20190923T225547Z
LAST-MODIFIED:20190923T225547Z
UID:2185-1571054400-1571331600@www.katherinehighschool.com.au
SUMMARY:ConocoPhillips Science Excursion
DESCRIPTION:CDU hosts the Science Experience\, providing year 9/10 students an opportunity to engage in a range of science activities. Students perform experiments in the laboratories\, visit the LNG Plant\, and access information about further studies in STEM.
URL:https://www.katherinehighschool.com.au/event/conocophillips-science-excursion/
END:VEVENT
END:VCALENDAR